BEGIN:VCALENDAR
PRODID:NingEventWidget-v1
VERSION:2.0
METHOD:PUBLISH
BEGIN:VTIMEZONE
TZID:Europe/Athens
X-LIC-LOCATION:Europe/Athens
BEGIN:DAYLIGHT
TZOFFSETFROM:+0200
TZOFFSETTO:+0300
TZNAME:EEST
DTSTART:19700329T030000
RRULE:FREQ=YEARLY;BYMONTH=3;BYDAY=-1SU
END:DAYLIGHT
BEGIN:STANDARD
TZOFFSETFROM:+0300
TZOFFSETTO:+0200
TZNAME:EET
DTSTART:19701025T040000
RRULE:FREQ=YEARLY;BYMONTH=10;BYDAY=-1SU
END:STANDARD
END:VTIMEZONE
BEGIN:VEVENT
UID:1982923:Event:493298
DTSTAMP:20260425T062414Z
SUMMARY:11TH INTERNATIONAL BLUES CAMP,  JASENOVAC CROATIA
DESCRIPTION:11th International Blues Camp, a unique music event that t
 his year brings together young musicians, mentors and blues lovers fro
 m home and abroad! The camp will be held at the already well-known loc
 ation, - Jasenovac - Lonjsko Polje Nature Park, in a natural environme
 nt that breathes music, togetherness and inspiration. For years, the B
 lues Camp has not only been a place for musical learning, but also a p
 latform for the development of friendships, creativity and intercultur
 al dialogue. The camp hosts workshops with top mentors, public perform
 ances, jam sessions, lectures and concerts open to the public.\r\nThe 
 camp promotes tolerance, equality, cultural exchange and togetherness 
 through music - the universal language of all generations. Application
 s are open - the number of places is limited!\r\n\r\nMiro Dimić of Po
 p Rock Skola, Interview\r\n\n\nFor more information visit https://blue
 s.gr/events/11th-international-blues-camp-jasenovac-croatia
DTSTART;TZID=Europe/Athens:20250814T000000
DTEND;TZID=Europe/Athens:20250818T235900
CATEGORIES:blues, rock, workshops, camp
LOCATION:JASENOVAC CROATIA
WEBSITE:
URL:
CONTACT:
ORGANIZER:Pop Rock Skola
ATTACH;FMTTYPE="image/jpeg":https://storage.ning.com/topology/rest/1.0
 /file/get/13553824282?profile=original
ATTENDEE;ROLE=REQ-PARTICIPANT;PARTSTAT=ACCEPTED;RSVP=TRUE;CN="Music Ne
 twork by Michael Limnios":https://blues.gr/profile/MichalisLimnios
END:VEVENT
END:VCALENDAR
