BEGIN:VCALENDAR
PRODID:NingEventWidget-v1
VERSION:2.0
METHOD:PUBLISH
BEGIN:VTIMEZONE
TZID:Europe/Athens
X-LIC-LOCATION:Europe/Athens
BEGIN:DAYLIGHT
TZOFFSETFROM:+0200
TZOFFSETTO:+0300
TZNAME:EEST
DTSTART:19700329T030000
RRULE:FREQ=YEARLY;BYMONTH=3;BYDAY=-1SU
END:DAYLIGHT
BEGIN:STANDARD
TZOFFSETFROM:+0300
TZOFFSETTO:+0200
TZNAME:EET
DTSTART:19701025T040000
RRULE:FREQ=YEARLY;BYMONTH=10;BYDAY=-1SU
END:STANDARD
END:VTIMEZONE
BEGIN:VEVENT
UID:1982923:Event:20010
DTSTAMP:20260423T164228Z
SUMMARY:13BLUES FINGER LIVE AT IN VIVO
DESCRIPTION:BLUES FINGER LIVE AT IN VIVO !! HAPPY FRIDAY 13 !!!!\nΟι
  “BLUES FINGER” σε νέες περιπέτειες με BLUES, S
 OUL, ROCK γκάζια στο IN VIVO με πολλές Funky & Funny 
 διαθέσεις.\nDon’t Be Afraid Of Black Cats!!\n\nFor more inf
 ormation visit https://blues.gr/events/13blues-finger-live-at-in-vivo
DTSTART;TZID=Europe/Athens:20090313T000000
DTEND;TZID=Europe/Athens:20090313T235900
CATEGORIES:blues, soul, rock
LOCATION:IN VIVO
WEBSITE:http://www.myspace.com/bluesfingerbandgr
URL:http://www.myspace.com/bluesfingerbandgr
CONTACT:210 3822103
ORGANIZER;CN="BLUES FINGER BAND":https://blues.gr/profile/BLUESFINGERB
 AND
ATTACH;FMTTYPE="image/jpeg":http://storage.ning.com/topology/rest/1.0/
 file/get/2252936098?profile=original
ATTENDEE;ROLE=REQ-PARTICIPANT;PARTSTAT=ACCEPTED;RSVP=TRUE;CN="BLUES FI
 NGER BAND":https://blues.gr/profile/BLUESFINGERBAND
END:VEVENT
END:VCALENDAR
