BEGIN:VCALENDAR
PRODID:NingEventWidget-v1
VERSION:2.0
METHOD:PUBLISH
BEGIN:VTIMEZONE
TZID:Europe/Athens
X-LIC-LOCATION:Europe/Athens
BEGIN:DAYLIGHT
TZOFFSETFROM:+0200
TZOFFSETTO:+0300
TZNAME:EEST
DTSTART:19700329T030000
RRULE:FREQ=YEARLY;BYMONTH=3;BYDAY=-1SU
END:DAYLIGHT
BEGIN:STANDARD
TZOFFSETFROM:+0300
TZOFFSETTO:+0200
TZNAME:EET
DTSTART:19701025T040000
RRULE:FREQ=YEARLY;BYMONTH=10;BYDAY=-1SU
END:STANDARD
END:VTIMEZONE
BEGIN:VEVENT
UID:1982923:Event:493478
DTSTAMP:20260425T044332Z
SUMMARY:14ο Jazz Στο Πάρκο
DESCRIPTION:Για 14η συνεχή χρονιά, το «Jazz στο 
 Πάρκο» γεμίζει τον μαγευτικό χώρο του 
 Κτήματος Σερπιέρη με ρυθμούς και μελω
 ίες που ταξιδεύουν. Η φετινή βραδιά ξε
 κινά με το Δημ. Κασσαβέτης Quartet, αποτελ
 ύμενο από τους Δημήτρη Κασσαβέτη, Γιά
 νη Παπαδόπουλο, Γρηγόρη Θεοδωρίδη και
  Henry Chukuma Uninchuks.\r\nΣτη συνέχεια, το αφιέρ
 μα A Tribute to the Roy Hargrove “Quintet” φέρνει στη 
 σκηνή τους Κασσάνδρα Χαραλάμπη, Δημήτ
 η Παπαδόπουλο, Κωνσταντίνο Στουραΐτη,
  Κίμωνα Καρούτη και Παναγιώτη Θέμα, με 
 special guest τον θρυλικό σαξοφωνίστα Alex Foster
 .\r\nΗ βραδιά ολοκληρώνεται με το Στάθης
  Άννινος 4tet feat. Κατερίνα Πολέμη, που απ
 ρτίζεται από τους Κατερίνα Πολέμη, Μι
 άλη Τσιφτσή, Στάθη Άννινο, Κώστα Παπαϊ
 ωάννου και Θάνο Χατζηαναγνώστου.\r\nΣυμ
 μετέχει το Σύνολο Jazz του Μουσικού Σχολ
 είου Ιλίου.\r\n\r\nΗ καλλιτεχνική διεύθυν
 ση είναι του Γιώργου Τρανταλίδη.\r\nΗ εί
 σοδος είναι ελεύθερη.\r\n\r\nΔημ.Κασσαβέτ
 ης Quartet / Δημήτρης. Κασσαβετης. Γρήγορη
  Θεοδωρίδης. Γιάννης Παπαδόπουλος. Henry
  Chukuma Unuchucks\r\nO 17χρονος ταλαντούχος κιθα
 ρίστας Δημήτρης Κασσαβέτης φέρνει στο
  ¨Jazz στο Πάρκο¨ το κουαρτέτο του παρου
 ιάζοντας νέες πρωτότυπες συνθέσεις. Σ
 το μουσικό αυτό εγχείρημα συνοδοιπόρο
 υς έχει τους Γιάννη Παπαδόπουλο στο πι
 άνο, Γρηγόρη Θεωδορίδη στο κοντραμπάσ
  και Henry-Chukuma Unuchucks στα ντραμς.\r\n\r\nA tribute
  to Roy Hargrove \"Quintet\"  Κασσάνδρα Χαραλάμπη τ
 ραγούδι,Δημήτρης Παπαδόπουλος τρομπέ
 α, Κωνσταντίνος Στουραΐτης κιθάρα, Κί
 ων Καρούντζος ακουστικό Μπάσο και Παν
 αγιώτης Θέμας Τύμπανα Θα παρουσιάσουν
  την μουσική του Roy Hargrove .  Ένας φόρος τι
 μής στον θρυλικό τρομπετίστα .  SPECIAL GUEST
  The Legendary saxophonist ALEX FOSTER!!!\r\n\r\nStathis Anninos 4tet 
 ft. Katerina Polemi   “Sounds of the world”\r\nΣυντελεστ
 ς: Κατερίνα Πολέμη / φωνή- κιθάρα; Μιχ
 λης Τσιφτσής/ κιθάρα; Στάθης Άννινος /
 πιάνο, πλήκτρα, ενορχηστρώσεις; Κώστα
  Πατσιώτης /Κοντραμπάσο; Θάνος Χατζηα
 ναγνώστου /Τύμπανα\r\n\r\nΚαλλιτεχνική Δ
 εύθυνση: Γιώργος Τρανταλίδης\r\n\n\nFor more
  information visit https://blues.gr/events/14-jazz
DTSTART;TZID=Europe/Athens:20250913T000000
DTEND;TZID=Europe/Athens:20250913T235900
CATEGORIES:jazz
LOCATION:Πύργος Βασιλίσσης / Ίλιον
WEBSITE:
URL:
CONTACT:
ORGANIZER:Γιώργος Τρανταλίδης / Jazz Στο Πάρκ
 ο
ATTACH;FMTTYPE="image/jpeg":https://storage.ning.com/topology/rest/1.0
 /file/get/13706686884?profile=original
ATTENDEE;ROLE=REQ-PARTICIPANT;PARTSTAT=ACCEPTED;RSVP=TRUE;CN="Music Ne
 twork by Michael Limnios":https://blues.gr/profile/MichalisLimnios
END:VEVENT
END:VCALENDAR
