BEGIN:VCALENDAR
PRODID:NingEventWidget-v1
VERSION:2.0
METHOD:PUBLISH
BEGIN:VTIMEZONE
TZID:Europe/Athens
X-LIC-LOCATION:Europe/Athens
BEGIN:DAYLIGHT
TZOFFSETFROM:+0200
TZOFFSETTO:+0300
TZNAME:EEST
DTSTART:19700329T030000
RRULE:FREQ=YEARLY;BYMONTH=3;BYDAY=-1SU
END:DAYLIGHT
BEGIN:STANDARD
TZOFFSETFROM:+0300
TZOFFSETTO:+0200
TZNAME:EET
DTSTART:19701025T040000
RRULE:FREQ=YEARLY;BYMONTH=10;BYDAY=-1SU
END:STANDARD
END:VTIMEZONE
BEGIN:VEVENT
UID:1982923:Event:269261
DTSTAMP:20260423T150843Z
SUMMARY:Κάτω Από Το Δέντρο
DESCRIPTION:Οι \"Κάτω από το δέντρο\" είναι μί
 α παρέα, από γνωστούς μουσικούς, που μα
 ς ταξιδεύει στους ρυθμούς του κόσμου, 
 αίζοντας με τις μελωδίες από την παρά
 οση.\r\nΠάνος “Tsiko” Κατσικιώτης: φωνή, 
 αντολίνο, μελόντικα.Κλέων Αντωνίου: κ
 θάρα.Κώστας Κούβδος: κιθάρα, lapsteel, φυσ
 ρμόνικα.Νίκος Ακτύπης: μπάσο.Μάνος Δη
 ητρίου: τύμπανα.\r\nORFEAS LIVE, Φωκίωνος Νέγ
 ρη 25, Τ. 210 866 8544\r\n\n\nFor more information visit https://bl
 ues.gr/events/1982923:Event:269261
DTSTART;TZID=Europe/Athens:20181116T000000
DTEND;TZID=Europe/Athens:20181116T235900
CATEGORIES:blues, roots, folk, world
LOCATION:ORFEAS LIVE
WEBSITE:
URL:
CONTACT:210 866 8544
ORGANIZER:Orfeas Live
ATTACH;FMTTYPE="image/jpeg":http://storage.ning.com/topology/rest/1.0/
 file/get/2253059428?profile=original
ATTENDEE;ROLE=REQ-PARTICIPANT;PARTSTAT=ACCEPTED;RSVP=TRUE;CN="Music Ne
 twork by Michael Limnios":https://blues.gr/profile/MichalisLimnios
END:VEVENT
END:VCALENDAR
