BEGIN:VCALENDAR
PRODID:NingEventWidget-v1
VERSION:2.0
METHOD:PUBLISH
BEGIN:VTIMEZONE
TZID:Europe/Athens
X-LIC-LOCATION:Europe/Athens
BEGIN:DAYLIGHT
TZOFFSETFROM:+0200
TZOFFSETTO:+0300
TZNAME:EEST
DTSTART:19700329T030000
RRULE:FREQ=YEARLY;BYMONTH=3;BYDAY=-1SU
END:DAYLIGHT
BEGIN:STANDARD
TZOFFSETFROM:+0300
TZOFFSETTO:+0200
TZNAME:EET
DTSTART:19701025T040000
RRULE:FREQ=YEARLY;BYMONTH=10;BYDAY=-1SU
END:STANDARD
END:VTIMEZONE
BEGIN:VEVENT
UID:1982923:Event:486388
DTSTAMP:20260419T174449Z
SUMMARY:ΘΑΥΜΑ - Μια θεατρική συναυλία του 
 ιώργου Φακανά
DESCRIPTION:Για πρώτη φορά, μία θεατρική παρ
 άσταση παρουσιάζεται ταυτόχρονα με μί
 α μουσική συναυλία, προσφέροντας μια μ
 οναδική εμπειρία στον θεατή! Ιστορίες,
  μουσική, χρώματα, κίνηση, τοπία, συναν
 ήσεις... Άρωμα από Ελλάδα, σε μια σύγχρ
 νη, μουσική γεωγραφία, που αναζητά το 
 ως μέσα από ένα… ΘΑΥΜΑ!  «ΘΑΥΜΑ». Μια θ
 εατρική συναυλία σε κείμενο και μουσι
 ή του Γιώργου Φακανά και σκηνοθεσία τ
 ς Κωνσταντίνας Νικολαΐδη. Με τους Παν
 γιώτα Βλαντή και Θανάση Κουρλαμπά. Επ
  σκηνής και η 10μελής ορχήστρα YFG (Yiorgos Fa
 kanas Group).\r\nΤο «ΘΑΥΜΑ» αναζητά το φως μέσ
 α από ένα οδοιπορικό σε 10 περιοχές της 
 Ελλάδας. Θράκη, Μακεδονία, Ήπειρος, Θεσ
 σαλία, Στερεά Ελλάδα, Ιόνιο, Πελοπόννη
 ος, Αιγαίο, Δωδεκάνησα, Κρήτη. Ένα ταξί
 δι που εικονογραφείται με ηχοχρώματα, 
 αφηγήσεις, μουσικές και εικόνες, τα οπ
 ία λειτουργούν ως σύγχρονοι χοροί, αλ
 ά και λυρικές περιπλανήσεις, απόηχοι 
 ιας αισιόδοξης ματιάς απέναντι στον κ
 οινό μας τόπο, το παρόν και το μέλλον μ
 ς.  To 1997, κατόπιν παραγγελίας του καλλι
 τεχνικού διευθυντή της ΚΟΕΜ, Σταύρου Ξ
 αρχάκου, ο Γιώργος Φακανάς δημιουργεί 
 το μουσικό έργο “Echoes” (Απόηχοι). Η πρώ
 η παρουσίαση του \"Echoes\" έγινε στο Παλλ
 ς, το Δεκέμβριο του 2000, από την ΚΟΕΜ, σε
  διεύθυνση του ίδιου του συνθέτη. Από τ
 ότε μέχρι σήμερα, το έργο έχει παρουσι
 στεί, πολλές φορές, στο κοινό, με τη μο
 φή συναυλίας. Τώρα, για πρώτη φορά, το 
 Echoes” στέκεται δίπλα στον θεατρικό λό
 γο, παρουσιάζοντας μια ενιαία παράστα
 η, μια θεατρική συναυλία, το «ΘΑΥΜΑ». Ο
  θεατής/ακροατής απολαμβάνει την ίδια 
 στιγμή μια θεατρική παράσταση και μια 
 ολοκληρωμένη, μουσική συναυλία, δημιο
 ργικής ορχηστρικής μουσικής, με οριοθ
 ετημένα αλλά και αυτοσχεδιαστικά μέρη
 .\r\n Συντελεστές παράστασης: Συγγραφή/Μ
 ουσική σύνθεση: Γιώργος Φακανάς Σκηνο
 εσία: Κωνσταντίνα Νικολαΐδη Σκηνικά/Κ
 οστούμια: Μαρία Φιλίππου Video-art: Ερατώ Τ
 ζαβάρα Φωτισμοί: Μανώλης Μπράτσης Ηχο
 : Δημήτρης Καρπούζας-Αντώνης Κοντόζογ
 λου Κίνηση: Χριστίνα Φωτεινάκη Τρέιλε
 /Φωτογραφίες/Γραφιστική επιμέλεια: GRID
  FOX Επικοινωνία: Άντζυ Νομικού www.pearpr.com 
 Παραγωγή: Ars Nova Athina Music  Παίζουν οι ηθοπ
 ιοί: Παναγιώτα Βλαντή, Θανάσης Κουρλα
 πάς  Μουσικοί: Sam Marlieri (soprano sax), Σπύρος Ν
 ίκας (alto sax), Ilia Samsonov (Tenor sax), Δημήτρης Σε
 δαλής (piano), Γιώργος Φακανάς (bass), Μένιο
  Πασιαλής (Drums), Νίνα Πατρικίδου (1ο βιο
 ί), Αλεξάνδρα Νούσια (2ο βιολί), Μίσα Σμ
 ρνώφ (βιόλα), Έλλη Φιλίππου (τσέλο)   Πλ
 ροφορίες παράστασης: Από Τρίτη 9 Νοεμβ
 ρίου 2021 Κάθε Δευτέρα και Τρίτη στις 21.00
  Για περιορισμένο αριθμό παραστάσεων 
 ιάρκεια: 90’ (χωρίς διάλειμμα)  Αίθουσα
  Αθηνact-Αθηνά Live (μέσα στο Ωδείο Φακανά)
  Λεωφόρος Ποσειδώνος 3, Μοσχάτο  Γενική
  είσοδος: 20€ (ειδικές τιμές για γκρουπ
 ) Φοιτητικό-Παιδικό: 10€  Προπώληση εισ
 ιτηρίων: - Ωδείο Φακανά - Τηλεφωνικώς σ
 ο 2104813605 (Ωδείο Φακανά) - Ηλεκτρονικά στ
 ο www.ticketmaster.gr - Καταστήματα PUBLIC - Τηλεφω
 ικώς στο 2108938111 (ΤicketΜaster)\r\n\r\n\n\nFor more infor
 mation visit https://blues.gr/events/1982923:Event:486388
DTSTART;TZID=Europe/Athens:20211109T000000
DTEND;TZID=Europe/Athens:20211109T235900
CATEGORIES:theater, music
LOCATION:Αθηνά Live
WEBSITE:
URL:
CONTACT:2104813605
ORGANIZER:Ars Nova Athina Music
ATTACH;FMTTYPE="image/jpeg":https://storage.ning.com/topology/rest/1.0
 /file/get/9736383874?profile=original
ATTENDEE;ROLE=REQ-PARTICIPANT;PARTSTAT=ACCEPTED;RSVP=TRUE;CN="Music Ne
 twork by Michael Limnios":https://blues.gr/profile/MichalisLimnios
END:VEVENT
END:VCALENDAR
