BEGIN:VCALENDAR
PRODID:NingEventWidget-v1
VERSION:2.0
METHOD:PUBLISH
BEGIN:VTIMEZONE
TZID:Europe/Athens
X-LIC-LOCATION:Europe/Athens
BEGIN:DAYLIGHT
TZOFFSETFROM:+0200
TZOFFSETTO:+0300
TZNAME:EEST
DTSTART:19700329T030000
RRULE:FREQ=YEARLY;BYMONTH=3;BYDAY=-1SU
END:DAYLIGHT
BEGIN:STANDARD
TZOFFSETFROM:+0300
TZOFFSETTO:+0200
TZNAME:EET
DTSTART:19701025T040000
RRULE:FREQ=YEARLY;BYMONTH=10;BYDAY=-1SU
END:STANDARD
END:VTIMEZONE
BEGIN:VEVENT
UID:1982923:Event:488595
DTSTAMP:20260419T225336Z
SUMMARY:Ζωρζ Πιλαλί «Οχλοδοξία»
DESCRIPTION:Ζωρζ Πιλαλί«Οχλοδοξία»στο Λούλ
 ουΣάββατο 18 Φεβρουαρίου 2023\r\n\r\nΑνακοι
 ώνουμεν εις το εκλεκτόν φιλοθεάμον κο
 ινόν της ημετέρας πρωτευούσης τη σύγχ
 ονην σατιρικήν παράστασιν «Οχλοδοξί
 ».\r\nΟ ύστατος εφηβισμός ενός γηραλέου
  κόσμου. Τα περίεργα και παράδοξα συμβ
 βηκότα άτινα παριστάνονται και ιστορ
 ύνται εις την σκηνήν δύνανται να προξ
 νήσουν εις το φιλοθεάμον κοινόν ρίγη 
 ιανοητικής συγκινήσεως.\r\nΜερικοί εκ 
 ων τίτλων οίτινες θέλουν διαφωτίσουν 
 το φιλοθεάμον κοινόν δια το περιεχόμε
 ον της θεατρικής ιδιοφυούς σατιρικής
  παραστάσεως, «Οχλοδοξία»: Politicalcorrect: Η
  ηθικολογία της αθεάτριστης διανόησης
  και ο αντίλογος της «Συνηγορίας υπέρ 
 ου μίσους».\r\nΕρντoγάν: ο πτωχός μικροπ
 ωλητής όστις έμελλε να ηγεμονεύσει.\r\n
 εκροφιέστα: Ο ύστατος ελιγμός ενός εκ 
 των Σοστακόβιτς.\r\nΜιμίαμβος: Αττικίζο
 ντες μαρξιστές ηθοποιοί οίτινες εξαιρ
 ούν την αττικήν κωμωδίαν.\r\nO αισχρολόγ
 ιος: Ο υπερλεξικός καθηγητής Ζ. όστις β
 ωμολοχώντας σεμνοτυφεί.\r\nΤραγελαφικό
 ν ηχοϊστόρημα με τίτλον «Ο απέθαντος Ρ
 ωμιός, το θλιβερόν φάσμα των Βαλκανίων
 ». Εις την προθήκην της λαϊκής εντέχνο
  τραγουδοποιΐας μας εκθέτουμεν τα ανε
 κτίμητα faux bijoux των γυναικείων συναισθ
 μάτων.\r\nΝα προσέλθετε εξ άπαντος άπαν
 τες διότι το ποιητικόν μας έργον θα πα
 αστεί άπαξ εις τον πασίγνωστον μουσικ
 όν κλωβόν Λούλου ευρισκόμενον επί της 
 οδού Πειραιώς 105.\r\nΣυμμετέχουνΔημήτρη
 ς Δημητριάδης: πιάνοΚυριάκος Δαρίβας: 
 τύμπαναΜιχάλης Σουλάκης: μπάσοΧρήστο
 ς Ψαρομήλιγκος: βιολί\r\nΦιλική Συμμετο
 χήΑνδρονίκη Σκουλά – mezzo sopranoΕιρήνη Α
 γελοπούλου – ηθοποιός\r\n\r\nΠληροφορί
 ς:\r\nΗμερομηνία: Σάββατο 18 Φεβρουαρίο
  2023\r\nΏρα έναρξης: 21:30\r\nΤιμές Εισιτηρί
 ων Απλόν εισιτήριον: 18 ευρώ\r\nΤιμήν τα
 είου: 20 ευρώΕισιτήριον Διακεκριμένης 
 θέσεως: 25 ευρώΣημεία ΠροπώλησηςΗλεκτρ
 ονικώς: viva.gr & hunteragency.grΤηλεφωνικώς: 1187
 6Εις άπαντα τα Viva Spots(Καταστήματα NOVA, Publ
 ic, Media Markt, Βιβλιοπωλεία Ευριπίδης, Τεχν
 όπολη Δήμου Αθηναίων, Yolenis, αθηνόραμα.gr
 )\r\n\r\n\n\nFor more information visit https://blues.gr/events/198292
 3:Event:488595
DTSTART;TZID=Europe/Athens:20230218T000000
DTEND;TZID=Europe/Athens:20230218T235900
CATEGORIES:blues, rock, theater
LOCATION:Λούλου
WEBSITE:
URL:
CONTACT:
ORGANIZER:Λούλου
ATTACH;FMTTYPE="image/jpeg":https://storage.ning.com/topology/rest/1.0
 /file/get/10957722454?profile=original
ATTENDEE;ROLE=REQ-PARTICIPANT;PARTSTAT=ACCEPTED;RSVP=TRUE;CN="Music Ne
 twork by Michael Limnios":https://blues.gr/profile/MichalisLimnios
END:VEVENT
END:VCALENDAR
