BEGIN:VCALENDAR
PRODID:NingEventWidget-v1
VERSION:2.0
METHOD:PUBLISH
BEGIN:VTIMEZONE
TZID:Europe/Athens
X-LIC-LOCATION:Europe/Athens
BEGIN:DAYLIGHT
TZOFFSETFROM:+0200
TZOFFSETTO:+0300
TZNAME:EEST
DTSTART:19700329T030000
RRULE:FREQ=YEARLY;BYMONTH=3;BYDAY=-1SU
END:DAYLIGHT
BEGIN:STANDARD
TZOFFSETFROM:+0300
TZOFFSETTO:+0200
TZNAME:EET
DTSTART:19701025T040000
RRULE:FREQ=YEARLY;BYMONTH=10;BYDAY=-1SU
END:STANDARD
END:VTIMEZONE
BEGIN:VEVENT
UID:1982923:Event:493696
DTSTAMP:20260425T032640Z
SUMMARY:Ψαλμοί στο Χιόνι
DESCRIPTION:\r\nΨαλμοί στο Χιόνι: Η αντιπολεμ
 κή παράσταση του Αντρέα Μαντά στο Φεσ
 ιβάλ Κολωνού\r\nΟ Αντρέας Μαντάς παρου
 ιάζει, στο Ανοιχτό Θέατρο Κολωνού, την
  αντιπολεμική μπαλάντα-ωδή στον πατέρ
  «Ψαλμοί στο Χιόνι», σε ερμηνεία κειμέ
 νου της Λουκίας Μιχαλοπούλου.\r\n\r\nΗ Amor 
 Omnia παρουσιάζει την Πέμπτη 18 Σεπτεμβρί
 ου, στις 21:00, στο πλαίσιο του Φεστιβάλ Κ
 ολωνού (υπό την επιμέλεια του ΟΠΑΝΔΑ) τ
 ην παράσταση «Ψαλμοί στο Χιόνι», μια α
 ντιπολεμική μπαλάντα – ωδή στον πατέρ
 α, του Αντρέα Μαντά. Το κείμενο ερμηνε
 ει η Λουκία Μιχαλοπούλου. Μαζί της ζων
 τανά επί σκηνής ο Stephan Micus.\r\n\r\nΑντρέας 
 αντάς / Photo by Κωστής Χριστοδούλου\r\n
 \r\nΣυγγραφέας: Αντρέας Μαντάς\r\nΣκηνοθ
 σία: Αντρέας Μαντάς\r\nΦωτισμοί: Ιωάννα
  Αθανασίου\r\nΠαίζουν: Λουκία Μιχαλοπού
 λου |Μουσικός επί σκηνής: Stephan Micus\r\n \r\n
 ιμές Εισιτηρίων: Γενική είσοδος 10 ευρ
 . Μειωμένο εισιτήριο 5 ευρώ . *Η τιμή το
  μειωμένου εισιτηρίου αφορά τις ευάλω
 τες κοινωνικές ομάδες (ΑμεΑ, άνεργοι, π
 ολύτεκνοι, άνω των 65 ετών κλπ)\r\nΠληροφ
 ρίες: Προπώληση: ticketplus.gr\r\nΠαραστάσεις
 : Πέμπτη 18 Σεπτεμβρίου 2025 στις 21:00\r\nLink 
 ισιτηρίων: https://www.ticketplus.gr/event/psalmoi-sto-chion
 i/\r\nΠληροφορίες Χώρου: Θέατρο Κολωνού, 
 Καπανέως και Ιωαννίνων, Κολωνός.\r\n\r\n\n\
 nFor more information visit https://blues.gr/events/1982923:Event:4936
 96
DTSTART;TZID=Europe/Athens:20250918T000000
DTEND;TZID=Europe/Athens:20250918T235900
CATEGORIES:theatre, music
LOCATION:Ανοιχτό Θέατρο Κολωνού
WEBSITE:
URL:
CONTACT:
ORGANIZER:Amor Omnia
ATTACH;FMTTYPE="image/jpeg":https://storage.ning.com/topology/rest/1.0
 /file/get/13713117258?profile=original
ATTENDEE;ROLE=REQ-PARTICIPANT;PARTSTAT=ACCEPTED;RSVP=TRUE;CN="Music Ne
 twork by Michael Limnios":https://blues.gr/profile/MichalisLimnios
END:VEVENT
END:VCALENDAR
