BEGIN:VCALENDAR
PRODID:NingEventWidget-v1
VERSION:2.0
METHOD:PUBLISH
BEGIN:VTIMEZONE
TZID:Europe/Athens
X-LIC-LOCATION:Europe/Athens
BEGIN:DAYLIGHT
TZOFFSETFROM:+0200
TZOFFSETTO:+0300
TZNAME:EEST
DTSTART:19700329T030000
RRULE:FREQ=YEARLY;BYMONTH=3;BYDAY=-1SU
END:DAYLIGHT
BEGIN:STANDARD
TZOFFSETFROM:+0300
TZOFFSETTO:+0200
TZNAME:EET
DTSTART:19701025T040000
RRULE:FREQ=YEARLY;BYMONTH=10;BYDAY=-1SU
END:STANDARD
END:VTIMEZONE
BEGIN:VEVENT
UID:1982923:Event:495395
DTSTAMP:20260421T173933Z
SUMMARY:Παρασκηνιακές Ιστορίες (Ζώης Λούβ
 αρης) - Παρουσίαση Βιβλίου
DESCRIPTION:Πολλές και απίστευτες φωτογραφ
 ες, οι περισσότερες του παρασκηνίου, α
 λλά και κείμενα που κρύβουν λεπτομέρε
 ες που ο καθένας θα ήθελε να μάθει.   Συ
 ναντάμε στο βιβλίο τον Στάθη Καλυβιώτ
  και την Κρίστη Στασινοπούλου, Πάνο Γα
 βαλά, Alex Κ., με τους Last Drive, Νίκο Τσιλογι
 ννη, Θέκλα Τσελεπή, Angel Lo Verde, Νίκο Δελη
 ιάννη, Απροσάρμοστους με Γαλανάκη, Αρ
 πη, Δαρίβα, αλλά και με Μπάμπη Χινκιάμ
  και τον Κασκαμπά μεταγενέστερα. Τάκη 
 Ανδρούτσο, Νίκο Πολίτη, Τάκη Μαρινάκη, 
 Μάρκο Παπασηφάκη, Αντουάν Παρήνη, Θόδω
 ρο Παπαντίνα, Τόλη Μαστρόκαλο, Νίκο κα
  Βασίλη Σπυρόπουλο. Τους Κάτω από το δ
 ντρο, τον Δημήτρη Πουλικάκο, τους Γεια
  σου Τάκη και αρκετούς ακόμη.  Την Παρα
 κευή 24/4 στη μπυραρία The Dogs' Place Ανταίου 
 3, Άνω Πετράλωνα.\r\n\n\nFor more information visit https:
 //blues.gr/events/1982923:Event:495395
DTSTART;TZID=Europe/Athens:20260424T000000
DTEND;TZID=Europe/Athens:20260424T235900
CATEGORIES:book
LOCATION:The Dogs' Place
WEBSITE:
URL:
CONTACT:
ORGANIZER:
ATTACH;FMTTYPE="image/jpeg":https://storage.ning.com/topology/rest/1.0
 /file/get/31135247666?profile=original
ATTENDEE;ROLE=REQ-PARTICIPANT;PARTSTAT=ACCEPTED;RSVP=TRUE;CN="Music Ne
 twork by Michael Limnios":https://blues.gr/profile/MichalisLimnios
END:VEVENT
END:VCALENDAR
