BEGIN:VCALENDAR
PRODID:NingEventWidget-v1
VERSION:2.0
METHOD:PUBLISH
BEGIN:VTIMEZONE
TZID:Europe/Athens
X-LIC-LOCATION:Europe/Athens
BEGIN:DAYLIGHT
TZOFFSETFROM:+0200
TZOFFSETTO:+0300
TZNAME:EEST
DTSTART:19700329T030000
RRULE:FREQ=YEARLY;BYMONTH=3;BYDAY=-1SU
END:DAYLIGHT
BEGIN:STANDARD
TZOFFSETFROM:+0300
TZOFFSETTO:+0200
TZNAME:EET
DTSTART:19701025T040000
RRULE:FREQ=YEARLY;BYMONTH=10;BYDAY=-1SU
END:STANDARD
END:VTIMEZONE
BEGIN:VEVENT
UID:1982923:Event:16173
DTSTAMP:20260425T023236Z
SUMMARY:1st Blues.Gr Online Meeting
DESCRIPTION:Την Κυριακή 1 Φεβρουαρίου 2009 στι
 ς 23:00' η ώρα Ελλάδος θα κάνουμε μια πρώτ
 η online συνάντηση των μελών του Blues.Gr.\n\nΣ
 όχος της συνάντησης είναι να σμίξουμε
  λίγο και να τα πούμε ζωντανά online μια κ
 ι δεν μπορούμε να βρεθούμε όλοι δια ζώ
 σης.\n\nΗ συνάντηση θα γίνει (ελπίζουμε) 
 στο Chat-Room του Blues.Gr. Δυστυχώς λόγω διάφο
 ρων εργασιών που γίνονται εκεί, το Chat-Ro
 om δεν είναι πάντα διαθέσιμο προς το πα
 όν. Γι αυτό αν το Chat-Room μας προδώσει θα 
 μιλήσουμε εναλλακτικά στο Skype ή το MSN. Σ
 ε κάθε περίπτωση θα είμαι εκεί για να ξ
 επεράσουμε το όποιο τεχνικό θέμα προκ
 ψει και να βρούμε ένα τρόπο να μιλάμε 
 ακτικά online στο μέλλον. Πιστεύω ότι δεν
  θα πρέπει να περιμένουμε άλλο να σταθ
 ροποιηθούν τα μέσα που διαθέτουμε αλλ
 ά θα πρέπει να αρχίσουμε την προσπάθει
 α να βρισκόμαστε και ότι μέσα από αυτή
  θα λύσουμε και τα όποια τεχνικά θέματ
 α. Πιστεύω επίσης ότι θα έχω την κατανό
 ησή σας για τεχνικές δυσκολίες την πρώ
 τη φορά.\n\nΤην ημερομηνία και την ώρα τ
 ς όρισα αυθαίρετα αυτή τη φορά πιστεύ
 ντας ότι πολλοί από εμάς θα είμαστε δι
 αθέσιμοι το βράδυ της Κυριακής πριν πά
 με για ύπνο. Για τις επόμενες συναντήσ
 ις θα βρούμε μαζί την ημέρα και την ώρ
  (αν και η πρώτη Κυριακή κάθε μήνα στις
  23:00' μου φαίνεται καλή ιδέα αρχικά).\n\nΤ
 ην ώρα της συνάντησης θα έχω αναρτήσει
  στην αρχική σελίδα του site τυχόν απαρα
 τητες οδηγίες για όποιον θέλει να συμ
 ετέχει.\n\nSee you Sunday 23:00'...\n\nΓιάννης\n\nFor mo
 re information visit https://blues.gr/events/1st-bluesgr-online-meetin
 g
DTSTART;TZID=Europe/Athens:20090201T230000
DTEND;TZID=Europe/Athens:20090202T130000
CATEGORIES:"group chat"
LOCATION:http://blues.gr/
WEBSITE:http://blues.gr/
URL:http://blues.gr/
CONTACT:
ORGANIZER;CN="Yannis Rousochatzakis":https://blues.gr/profile/rousso
ATTACH;FMTTYPE="image/jpeg":http://storage.ning.com/topology/rest/1.0/
 file/get/2252937361?profile=original
ATTENDEE;ROLE=REQ-PARTICIPANT;PARTSTAT=ACCEPTED;RSVP=TRUE;CN="BB Chris
 ":https://blues.gr/profile/Chris91
ATTENDEE;ROLE=REQ-PARTICIPANT;PARTSTAT=ACCEPTED;RSVP=TRUE;CN=nikos:htt
 ps://blues.gr/profile/nikos
ATTENDEE;ROLE=REQ-PARTICIPANT;PARTSTAT=ACCEPTED;RSVP=TRUE;CN="Bloose (
 Vassilis)":https://blues.gr/profile/Bloose
ATTENDEE;ROLE=REQ-PARTICIPANT;PARTSTAT=ACCEPTED;RSVP=TRUE;CN="Yannis R
 ousochatzakis":https://blues.gr/profile/rousso
ATTENDEE;ROLE=REQ-PARTICIPANT;PARTSTAT=TENTATIVE;RSVP=TRUE;CN="George 
 \"Whiskey\" Stefanakis":https://blues.gr/profile/GeorgeStefanakis
ATTENDEE;ROLE=REQ-PARTICIPANT;PARTSTAT=TENTATIVE;RSVP=TRUE;CN="Big Mo"
 :https://blues.gr/profile/BigMo
ATTENDEE;ROLE=REQ-PARTICIPANT;PARTSTAT=TENTATIVE;RSVP=TRUE;CN=Costas:h
 ttps://blues.gr/profile/Costas
END:VEVENT
END:VCALENDAR
