BEGIN:VCALENDAR
PRODID:NingEventWidget-v1
VERSION:2.0
METHOD:PUBLISH
BEGIN:VTIMEZONE
TZID:Europe/Athens
X-LIC-LOCATION:Europe/Athens
BEGIN:DAYLIGHT
TZOFFSETFROM:+0200
TZOFFSETTO:+0300
TZNAME:EEST
DTSTART:19700329T030000
RRULE:FREQ=YEARLY;BYMONTH=3;BYDAY=-1SU
END:DAYLIGHT
BEGIN:STANDARD
TZOFFSETFROM:+0300
TZOFFSETTO:+0200
TZNAME:EET
DTSTART:19701025T040000
RRULE:FREQ=YEARLY;BYMONTH=10;BYDAY=-1SU
END:STANDARD
END:VTIMEZONE
BEGIN:VEVENT
UID:1982923:Event:105670
DTSTAMP:20260424T125554Z
SUMMARY:2nd Kalamata international Jazz Festival
DESCRIPTION:Το 2ο Καλαμάτα Τζαζ Φεστιβάλ θα 
 ραγματοποιηθεί από την Παρασκευή 22  μ
 έχρι την Κυριακή 24 Ιουλίου 2011.  Tην Παρα
 σκευή 22 Ιουλίου στο Πάρκο των Σιδηροδρ
 όμων, χώρος του Πατινάζ, ξεκινάει δυνα
 ικά το Φεστιβάλ με τους Jazz Steps το γκρού
 π του τμήματος τζαζ του Δημοτικού Ωδεί
 ου με την μουσική επιμέλεια του Σύλβιο
 υ Σύρρου, τoυς So & So Quartet ένα δυναμικό κι
 αριστικό τζαζ κουαρτέτο από την Καλαμ
 άτα με την Πηνελόπη Πιστιόλη στη φωνή. 
 Το ίδιο βράδυ καλεσμένος του Φεστιβάλ 
 ο βιρτουόζος κιθαρίστας και τραγουδισ
 τής Adedeji Adetayo από τη Νιγηρία με τους Neo Yo
 ruba People. Η συναυλία θα είναι ανοιχτή για
  το κοινό.  Το Σάββατο 23 και Κυριακή 24 Ι
 υλίου, έχει εξασφαλιστεί ο χώρος του Α
 μφιθέατρου του Κάστρου Καλαμάτας όπου
  και θα πραγματοποιηθούν δυο μουσικές 
 βραδιές. Οι Γιώργος Τσώλης Trio και η Αλε
 ξάνδρα Λέρτα με τους Ad Hoc Quartet, απευθεία
 ς από το Βασιλικό Κονσερβατόριο της Χά
 γης θα εμφανιστούν το Σάββατο ενώ οι Bro
 ken Fingers από την Ουτρέχτη και το project του 
 Πέτρου Κλαμπάνη \"Contextual\" εκ Νέας Υόρκη
  ορμώμενος, θα παίξουν την Κυριακή.\n\nTo
  Φεστιβάλ φέτος θα δώσει έμφαση στους 
 λληνες νέους δημιουργούς που πρόερχο
 ται και κινούνται στο χώρο της τζαζ κα
 ι που χρήζουν μιας ευρύτερης προβολής 
 και επικοινωνίας με το κοινό.  Πρόκειτ
 αι για καλλιτέχνες πιστούς στο προσωπ
 κό τους αισθητικό όραμα που μέσα από τ
 ις δυσκολίες έχουν καταφέρει να αναδε
 χθούν διεθνώς σε μια απαιτητική σκηνή
  όπως είναι αυτή της τζαζ.  Το ύφος της 
 ουσικής  ποικίλει και καλύπτει μια ευ
 ρεία γκάμα μουσικών στυλ, πάντα μέσα σ
 ην γενικότερη αισθητική της τζαζ.  Aπό
  το κλασικό φωνητικό κουαρτέτο με τη σ
 νοδεία σαξοφώνου μέχρι την πιο περίτε
 χνη συνθετικά και ενορχηστρωτικά τζαζ
  και την afro beat.\nΠρόγραμμα  Παρασκευή 22 
 ουλίου 2011 Πάρκο Σιδηροδρόμων - Χώρος Π
 ατινάζ 21.00 ελεύθερη είσοδος  1- Jazz Steps feat
 . Katerina Barbarousi (Δημοτικό Ωδείο Καλαματας)
  (πιάνο, κιθάρα, μπάσο, τύμπανα, τρομπέτ
 α, σαξόφωνο) 2- So and So Quartet  feat. Penelope Pistioli (
 2 κιθάρες, μπάσο, ττύμπανα, φωνή) 3- Neo Yorub
 a People & Adedeji Adetayo (Ελλάδα-Νιγηρία-Κούβα)(κ
 ιθάρα, μπάσο, τύμπανα, φωνή)   Σάββατο 23 
 Ιουλίου 2011 Αμφιθέατρο Κάστρου 21.00 είσο
 δος 12€  Γιώργος Τσώλης Τριο - Χάγη  (πι
 νο-κοντραμπάσο-τύμπανα) Αλεξάνδρα Λέρ
 τα & Ad Hoc Quartet guest J.Papanastassiou - Χάγη  (πιανο-
 κοντραμπάσο-τύμπανα-φωνή-σαξόφωνο)  Kυ
 ιακη 24 Ιουλίου Αμφιθέατρο Κάστρου 21.00 
 είσοδος 12€  Broken Fingers Ουτρέχτη  (ηλ.κιθά
 ρα, πιάνο, μπάσο, ντραμς, σαξόφωνο) Petros K
 lampanis \"Contextual\" -Νέα Υόρκη-Αθήνα (μπάσο, π
 άνο, κρουστά, κουαρτέτο εγχόρδων, φωνή
 )\n\nFor more information visit https://blues.gr/events/2nd-kalamata-i
 nternational
DTSTART;TZID=Europe/Athens:20110722T000000
DTEND;TZID=Europe/Athens:20110724T235900
CATEGORIES:festival
LOCATION:City of Kalamata
WEBSITE:http://www.kalamatajazz.gr
URL:http://www.kalamatajazz.gr
CONTACT:
ORGANIZER:Kalamata Jazz Festival
ATTACH;FMTTYPE="image/jpeg":http://storage.ning.com/topology/rest/1.0/
 file/get/2252951660?profile=original
ATTENDEE;ROLE=REQ-PARTICIPANT;PARTSTAT=ACCEPTED;RSVP=TRUE;CN="Music Ne
 twork by Michael Limnios":https://blues.gr/profile/MichalisLimnios
END:VEVENT
END:VCALENDAR
