BEGIN:VCALENDAR
PRODID:NingEventWidget-v1
VERSION:2.0
METHOD:PUBLISH
BEGIN:VTIMEZONE
TZID:Europe/Athens
X-LIC-LOCATION:Europe/Athens
BEGIN:DAYLIGHT
TZOFFSETFROM:+0200
TZOFFSETTO:+0300
TZNAME:EEST
DTSTART:19700329T030000
RRULE:FREQ=YEARLY;BYMONTH=3;BYDAY=-1SU
END:DAYLIGHT
BEGIN:STANDARD
TZOFFSETFROM:+0300
TZOFFSETTO:+0200
TZNAME:EET
DTSTART:19701025T040000
RRULE:FREQ=YEARLY;BYMONTH=10;BYDAY=-1SU
END:STANDARD
END:VTIMEZONE
BEGIN:VEVENT
UID:1982923:Event:151537
DTSTAMP:20260422T052335Z
SUMMARY:3o ROCK & BLUES FESTIVAL  Μαλεσίνας
DESCRIPTION:SMALL BLUES TRAP Παύλος Καραπιπέρης: φω
 νή, φυσαρμόνικα Παναγιώτης Δάρας: κιθά
 ρα Λευτέρης Μπέσιος: μπάσο Στάθης Ευαγ
 γελίου: drums\n \nDON'T DUET Τέρης Μαρτίνος: κι
 άρα Μάκης Σημίτης: πλήκτρα, φωνή \nTIN TUTT
 I Νίκος Ψαρράς: μπάσο, φωνή Λευτέρης Πρ
 φαντής: φωνή Γιάννης Νίκας: κιθάρα Γιώ
 ργος Μαστροδήμος: κιθάρα Βύρωνας Ψαρρ
 ς: drums \nΑΝΑΠΟΦΑΣΙΣΤΟΙ Θωμάς Σάρρος: κι
 άρα Ηλίας Σταμόπουλος: κιθάρα Εύη Αγγ
 λή: φωνή Άγγελος Αγγέλου: φωνή Βασίλης
  Γκορίτσας: πλήκτρα\n\n\nFor more information visit ht
 tps://blues.gr/events/3o-rock-blues-festival
DTSTART;TZID=Europe/Athens:20120809T000000
DTEND;TZID=Europe/Athens:20120809T235900
CATEGORIES:rock, blues, festival
LOCATION:Κινηματογράφος “ΑΝΕΣΙΣ\" , Παραλί
 α Θεολόγου
WEBSITE:
URL:
CONTACT:
ORGANIZER;CN="Small Blues Trap":https://blues.gr/profile/SmallBluesTra
 p
ATTACH;FMTTYPE="image/jpeg":http://storage.ning.com/topology/rest/1.0/
 file/get/2252990202?profile=original
ATTENDEE;ROLE=REQ-PARTICIPANT;PARTSTAT=ACCEPTED;RSVP=TRUE;CN="Small Bl
 ues Trap":https://blues.gr/profile/SmallBluesTrap
END:VEVENT
END:VCALENDAR
