BEGIN:VCALENDAR
PRODID:NingEventWidget-v1
VERSION:2.0
METHOD:PUBLISH
BEGIN:VTIMEZONE
TZID:Europe/Athens
X-LIC-LOCATION:Europe/Athens
BEGIN:DAYLIGHT
TZOFFSETFROM:+0200
TZOFFSETTO:+0300
TZNAME:EEST
DTSTART:19700329T030000
RRULE:FREQ=YEARLY;BYMONTH=3;BYDAY=-1SU
END:DAYLIGHT
BEGIN:STANDARD
TZOFFSETFROM:+0300
TZOFFSETTO:+0200
TZNAME:EET
DTSTART:19701025T040000
RRULE:FREQ=YEARLY;BYMONTH=10;BYDAY=-1SU
END:STANDARD
END:VTIMEZONE
BEGIN:VEVENT
UID:1982923:Event:74309
DTSTAMP:20260419T160208Z
SUMMARY:4 BLUES LIVE
DESCRIPTION:Οι 4 BLUES καλωσοριζουν τον φετινο 
 χειμωνα στο NANOUF CAFE\nΕΙΣΟΔΟΣ ΕΛΕΥΘΕΡΗ\nΕ
 ΝΑΡΞΗ 21:30 (ΑΥΣΤΗΡΑ)\n\nFor more information visit https:
 //blues.gr/events/4-blues-live-2
DTSTART;TZID=Europe/Athens:20101015T213000
DTEND;TZID=Europe/Athens:20101016T003000
CATEGORIES:blues, concert
LOCATION:NANOUF CAFE, ΕΛ. ΒΕΝΙΖΕΛΟΥ 26 ΠΕΡΙΣΤΕΡΙ, 
 ΜΕΤΡΟ ΑΓ. ΑΝΤΩΝΙΟΥ
WEBSITE:
URL:
CONTACT:
ORGANIZER;CN="4 blues":https://blues.gr/profile/4blues
ATTACH;FMTTYPE="image/jpeg":http://storage.ning.com/topology/rest/1.0/
 file/get/2252944083?profile=original
ATTENDEE;ROLE=REQ-PARTICIPANT;PARTSTAT=ACCEPTED;RSVP=TRUE;CN="Tsiamtsi
 kas Nikolaos":https://blues.gr/profile/TsiamtsikasNikolaos
ATTENDEE;ROLE=REQ-PARTICIPANT;PARTSTAT=ACCEPTED;RSVP=TRUE;CN="4 blues"
 :https://blues.gr/profile/4blues
ATTENDEE;ROLE=REQ-PARTICIPANT;PARTSTAT=TENTATIVE;RSVP=TRUE;CN="Giannis
  Pachidis":https://blues.gr/profile/ioannis
END:VEVENT
END:VCALENDAR
