BEGIN:VCALENDAR
PRODID:NingEventWidget-v1
VERSION:2.0
METHOD:PUBLISH
BEGIN:VTIMEZONE
TZID:Europe/Athens
X-LIC-LOCATION:Europe/Athens
BEGIN:DAYLIGHT
TZOFFSETFROM:+0200
TZOFFSETTO:+0300
TZNAME:EEST
DTSTART:19700329T030000
RRULE:FREQ=YEARLY;BYMONTH=3;BYDAY=-1SU
END:DAYLIGHT
BEGIN:STANDARD
TZOFFSETFROM:+0300
TZOFFSETTO:+0200
TZNAME:EET
DTSTART:19701025T040000
RRULE:FREQ=YEARLY;BYMONTH=10;BYDAY=-1SU
END:STANDARD
END:VTIMEZONE
BEGIN:VEVENT
UID:1982923:Event:81610
DTSTAMP:20260421T201642Z
SUMMARY:4 BLUES LIVE
DESCRIPTION:Oi 4 BLUES LIVE sto NANOUF CAFE\n\nFor more information vi
 sit https://blues.gr/events/4-blues-live-5
DTSTART;TZID=Europe/Athens:20101203T213000
DTEND;TZID=Europe/Athens:20101203T233000
CATEGORIES:blues, concert
LOCATION:NANOUF CAFE, ΕΛ. ΒΕΝΙΖΕΛΟΥ 26 ΠΕΡΙΣΤΕΡΙ, 
 ΜΕΤΡΟ ΑΓ. ΑΝΤΩΝΙΟΥ
WEBSITE:
URL:
CONTACT:
ORGANIZER;CN="4 blues":https://blues.gr/profile/4blues
ATTACH;FMTTYPE="image/jpeg":http://storage.ning.com/topology/rest/1.0/
 file/get/2252944083?profile=original
ATTENDEE;ROLE=REQ-PARTICIPANT;PARTSTAT=ACCEPTED;RSVP=TRUE;CN="4 blues"
 :https://blues.gr/profile/4blues
ATTENDEE;ROLE=REQ-PARTICIPANT;PARTSTAT=TENTATIVE;RSVP=TRUE;CN="Antonis
  Kanaris":https://blues.gr/profile/AntonisKanaris
END:VEVENT
END:VCALENDAR
