BEGIN:VCALENDAR
PRODID:NingEventWidget-v1
VERSION:2.0
METHOD:PUBLISH
BEGIN:VTIMEZONE
TZID:Europe/Athens
X-LIC-LOCATION:Europe/Athens
BEGIN:DAYLIGHT
TZOFFSETFROM:+0200
TZOFFSETTO:+0300
TZNAME:EEST
DTSTART:19700329T030000
RRULE:FREQ=YEARLY;BYMONTH=3;BYDAY=-1SU
END:DAYLIGHT
BEGIN:STANDARD
TZOFFSETFROM:+0300
TZOFFSETTO:+0200
TZNAME:EET
DTSTART:19701025T040000
RRULE:FREQ=YEARLY;BYMONTH=10;BYDAY=-1SU
END:STANDARD
END:VTIMEZONE
BEGIN:VEVENT
UID:1982923:Event:265671
DTSTAMP:20260425T050038Z
SUMMARY:5ο Summer Blues Festival
DESCRIPTION:\nΣΑΒΒΑΤΟ 19 ΜΑΙΟΥ 2018  NOUS  DADDY'S WORK BL
 UES BAND  BLUEZ BOX\nΚΥΡΙΑΚΗ 20 ΜΑΙΟΥ 2018  ΓΙΩΡΓΟΣ
  ΚΟΝΤΡΑΦΟΥΡΗΣ & BABY TRIO  ACES AND THE DAME  BLUES.N SOUL
  SHAKERS JAM\nΗχητική Επιμέλεια του 2ήμερου 
 εστιβαλ: Eva \"Foxy\" Zevgoula\nDoors Open: 21:00\nΕίσοδ
 ς: 6 ευρώ\nΜπύρα: 5 ευρώ\n\n\n\n\nFor more information 
 visit https://blues.gr/events/5-summer-blues-festival
DTSTART;TZID=Europe/Athens:20180519T213000
DTEND;TZID=Europe/Athens:20180520T020000
CATEGORIES:blues, festival
LOCATION:Black Box Methodia
WEBSITE:https://goo.gl/maps/GBJtLZ1WdHp
URL:https://goo.gl/maps/GBJtLZ1WdHp
CONTACT:
ORGANIZER:Summer Blues Festival
ATTACH;FMTTYPE="image/jpeg":http://storage.ning.com/topology/rest/1.0/
 file/get/2253058706?profile=original
ATTENDEE;ROLE=REQ-PARTICIPANT;PARTSTAT=ACCEPTED;RSVP=TRUE;CN="Giannis 
 Pachidis":https://blues.gr/profile/ioannis
END:VEVENT
END:VCALENDAR
