BEGIN:VCALENDAR
PRODID:NingEventWidget-v1
VERSION:2.0
METHOD:PUBLISH
BEGIN:VTIMEZONE
TZID:Europe/Athens
X-LIC-LOCATION:Europe/Athens
BEGIN:DAYLIGHT
TZOFFSETFROM:+0200
TZOFFSETTO:+0300
TZNAME:EEST
DTSTART:19700329T030000
RRULE:FREQ=YEARLY;BYMONTH=3;BYDAY=-1SU
END:DAYLIGHT
BEGIN:STANDARD
TZOFFSETFROM:+0300
TZOFFSETTO:+0200
TZNAME:EET
DTSTART:19701025T040000
RRULE:FREQ=YEARLY;BYMONTH=10;BYDAY=-1SU
END:STANDARD
END:VTIMEZONE
BEGIN:VEVENT
UID:1982923:Event:106666
DTSTAMP:20260421T232557Z
SUMMARY:5o Αντιρατσιστικό Φεστιβάλ στο Βόλ
 ο
DESCRIPTION:\nΠαρασκευή 24 Ιούνη 2011  6 μμ: Έναρ
 η  6 μμ – 8μμ: Παιδότοπος, Χώρος δημιουρ
 γικής απασχόλησης παιδιών με υποστήρι
 ξη παιδαγωγών: Φοιτητές και φοιτήτριε
  των Παιδαγωγικών Τμημάτων του Πανεπι
 στημίου Θεσσαλίας σε ποικίλες δραστηρ
 ιότητες για μικρά παιδιά.  7.00-8.30μμ: Συζ
 τηση, Θέμα «Κρίση-ανεργία-μετανάστευσ
 η» Ομιλητές: Γιάννης Λάμπρου, Κίνηση Υ
 εράσπισης Δικαιωμάτων Προσφύγων και 
 εταναστών/στριών Πάτρας, Θόδωρος Πανό
 πουλος, βιομηχανικός εργάτης, Σεραφεί
  Σεφεριάδης, πανεπιστημιακός, Συντονι
 στής: Μάνος Σκούφογλου  8.45-9.45μμ: Θεατρι
 κό δρώμενο, «Ω τι κόσμος μπαμπά!» κοινω
 νική σάτιρα, διάρκεια: 45’ Συγγραφέας: 
 ώστας Μουρσελάς, Παράσταση από τη θεα
 ρική ομάδα ΑμεΑ «Έκφραση» του ΔΟΥΚ Δή
 ου Βόλου, προλογίζει η Αλίκη Κουκουμβ
 ή.  10.00-12.00μμ: Συναυλία, Πάρης Μιχαλόπου
 λος (Έντεχνο και ροκ ελληνικό), Bad a bada (ro
 ck), Buffer (Post-rock)\n \nΣάββατο 25 Ιούνη 2011  6 μμ
 : Έναρξη  6 μμ – 8μμ: Παιδότοπος, Χώρος δ
 μιουργικής απασχόλησης παιδιών με υπ
 στήριξη παιδαγωγών: Φοιτητές και φοιτ
 ήτριες των Παιδαγωγικών Τμημάτων του 
 ανεπιστημίου Θεσσαλίας σε ποικίλες δ
 αστηριότητες για μικρά παιδιά.  7.00-8.30μ
 μ: Συζήτηση,  Θέμα «Εξεγέρσεις στις αρα
 βικές χώρες»  Ομιλητές: Νικόλας Κοσματ
 όπουλος, λέκτορας ανθρωπολογίας Πανεπ
 ιστήμιου Ζυρίχης,  Μοχάμεντ Ανίς Μανσο
 υρί, Τυνήσιος εκπρόσωπος επιτροπών αγ
 να,  Συντονιστής: Δημήτρης Χαροντάκης 
  8.45-9.45μμ: Προβολή, «Κλωτσιά στη φτώχεια
 », Ντοκιμαντέρ για την εθνική αστέγων, 
 σε σκηνοθεσία Χ. Βασιλόπουλου, Δ. Πετρό
 πουλου, προλογίζει ο Σινότ.  10.00-12.30πμ: Σ
 υναυλία,  Renovatio (Αλβανικό hip hop),  Sky pup (regga
 e-dub-ska),  VIC (Rock-Folk-Psychedelic),  WC (Blues)  Και τις 2
  μέρες θα υπάρχουν: κεντρικό περίπτερο
  του Αντιρατσιστικού Φεστιβάλ θεματικ
 ά περίπτερα με φωτογραφίες και οπτικο
 κουστικό υλικό βιβλιοπωλείο κουζίνα 
 ε γεύσεις από Αλβανία, Αφγανιστάν, Νιγ
 ηρία και Παλαιστίνη μπαρ με τοπικά ανα
 ψυκτικά, κρασιά και τσίπουρα\n\nFor more infor
 mation visit https://blues.gr/events/5o-antiratsistikho-phestivhal
DTSTART;TZID=Europe/Athens:20110624T180000
DTEND;TZID=Europe/Athens:20110625T190000
CATEGORIES:festival
LOCATION:παραλία Βόλου
WEBSITE:
URL:
CONTACT:
ORGANIZER:Συνέλευση μεταναστευτικών, κοιν
 νικών, πολιτικών συλλογικοτήτων και π
 ολιτών
ATTACH;FMTTYPE="image/jpeg":http://storage.ning.com/topology/rest/1.0/
 file/get/2252952024?profile=original
ATTENDEE;ROLE=REQ-PARTICIPANT;PARTSTAT=ACCEPTED;RSVP=TRUE;CN="Sotiris 
 Zirganos":https://blues.gr/profile/SotirisZirganos
END:VEVENT
END:VCALENDAR
