BEGIN:VCALENDAR
PRODID:NingEventWidget-v1
VERSION:2.0
METHOD:PUBLISH
BEGIN:VTIMEZONE
TZID:Europe/Athens
X-LIC-LOCATION:Europe/Athens
BEGIN:DAYLIGHT
TZOFFSETFROM:+0200
TZOFFSETTO:+0300
TZNAME:EEST
DTSTART:19700329T030000
RRULE:FREQ=YEARLY;BYMONTH=3;BYDAY=-1SU
END:DAYLIGHT
BEGIN:STANDARD
TZOFFSETFROM:+0300
TZOFFSETTO:+0200
TZNAME:EET
DTSTART:19701025T040000
RRULE:FREQ=YEARLY;BYMONTH=10;BYDAY=-1SU
END:STANDARD
END:VTIMEZONE
BEGIN:VEVENT
UID:1982923:Event:103075
DTSTAMP:20260420T074640Z
SUMMARY:5th Annual International Athens Tattoo Convention
DESCRIPTION:Όπως συνηθίζεται κάθε χρόνο, έτ
 ι και φέτος η Red & White Productions πιστή στο ρ
 ντεβού της με τους λάτρεις του Tattoo και
  στα πρότυπα των μεγαλυτέρων tattoo convention
 s της Ευρώπης διοργανώνει  το 5o Διεθνέ
  Συνέδριο Δερματοστιξίας (5th  Athens Tattoo C
 onvention), στην Αθήνα στις 13,14 & 15 Μαΐου 2011 σ
 το Γυάλινο Κτίριο – Πλατεία Νερού στο
  Ολυμπιακό Πόλο Φαλήρου. \nΣε μια κυρι
 λεκτικά γιορτή για τους λάτρεις της δ
 ρματοστιξίας κορυφαίοι Έλληνες αλλά 
 αι ξένοι καλλιτέχνες απ’ όλο τον κόσμ
 ο έρχονται να παρουσιάσουν τη δική του
 ς οπτική πάνω στην πανάρχαια αυτή τέχν
 η επιδεικνύοντας τα σχέδιά τους, να εν
 μερώσουν τους επισκέπτες για ότι έχει
  να κάνει με ζητήματα tattoo ‘όπως τεχνοτ
 ροπίες, χρωματισμοί, απαραίτητοι κανό
 ες υγιεινής κ.α.Η λέξη γιορτή που χρησ
 μοποιήθηκε όμως δεν είναι καθόλου τυχ
 αία. Σε ολόκληρη τη διάρκεια του φεστι
 άλ θα πραγματοποιούνται δρώμενα όπως 
 Art Fusion όπου 5 καλλιτέχνες ζωγραφίζουν σ
 ε 5 καμβάδες και κάθε 3 λεπτά αλλάζουν θ
 έση και συνεχίζουν, αλλάζοντας το σχέδ
 ιο του προηγούμενου καλλιτέχνη βάζοντ
 ας τη δική τους φαντασία… Body Painting Show, Ε
 κθέσεις σχεδίων με επιδείξεις και βρά
 ευση των καλύτερων σχεδίων από αυτά, Δ
 ιαγωνισμοί καλύτερου tattoo ανά κατηγορί
 α, Graffiti Show, Extreme Fashion Show, Επίδειξη παραδο
 σιακών πολεμικών τεχνών με ξίφη και ξύ
 λα. Τέλος, οι διοργανωτές έχουν οργανώ
 ει ένα ιδιαίτερο πρόγραμμα με συναυλί
 ες καθώς και guest dj’s.\n\n\nFor more information visit h
 ttps://blues.gr/events/5th-annual-international
DTSTART;TZID=Europe/Athens:20110513T140000
DTEND;TZID=Europe/Athens:20110515T120000
CATEGORIES:event
LOCATION:Γυάλινο Κτίριο
WEBSITE:http://www.athenstattooconvention.gr
URL:http://www.athenstattooconvention.gr
CONTACT:
ORGANIZER:Red & White Productions
ATTACH;FMTTYPE="image/jpeg":http://storage.ning.com/topology/rest/1.0/
 file/get/2252950195?profile=original
ATTENDEE;ROLE=REQ-PARTICIPANT;PARTSTAT=ACCEPTED;RSVP=TRUE;CN="Music Ne
 twork by Michael Limnios":https://blues.gr/profile/MichalisLimnios
END:VEVENT
END:VCALENDAR
