BEGIN:VCALENDAR
PRODID:NingEventWidget-v1
VERSION:2.0
METHOD:PUBLISH
BEGIN:VTIMEZONE
TZID:Europe/Athens
X-LIC-LOCATION:Europe/Athens
BEGIN:DAYLIGHT
TZOFFSETFROM:+0200
TZOFFSETTO:+0300
TZNAME:EEST
DTSTART:19700329T030000
RRULE:FREQ=YEARLY;BYMONTH=3;BYDAY=-1SU
END:DAYLIGHT
BEGIN:STANDARD
TZOFFSETFROM:+0300
TZOFFSETTO:+0200
TZNAME:EET
DTSTART:19701025T040000
RRULE:FREQ=YEARLY;BYMONTH=10;BYDAY=-1SU
END:STANDARD
END:VTIMEZONE
BEGIN:VEVENT
UID:1982923:Event:175712
DTSTAMP:20260421T233132Z
SUMMARY:7th International Athens Tattoo Convention
DESCRIPTION:Για έβδομη συνεχόμενη χρονιά στ
 α πρότυπα των μεγαλυτέρων tattoo conventions τ
 ς Ευρώπης το 7o Διεθνές Συνέδριο Δερμα
 οστιξίας (7th Athens Tattoo Convention), στην Αθήνα 
 στις 10,11 & 12 Μαΐου 2013 στο Γήπεδο [Tae Kwon Do],
  Ολυμπιακός Πόλος Φαλήρου.\nΜέρες & Ώρε
  λειτουργίας10/5 Παρασκευή [14:00-24:00]11/5 Σά
 ββατο [12:00-24:00]12/5 Κυριακή [12:00-24:00]\nΚορυφ
 ίοι Έλληνες αλλά και ξένοι καλλιτέχνε
 ς απ’ όλο τον κόσμο έρχονται να παρουσ
 ιάσουν τη δική τους οπτική πάνω στην π
 νάρχαια αυτή τέχνη επιδεικνύοντας τα 
 σχέδιά τους, να ενημερώσουν τους επισκ
 έπτες για ότι έχει να κάνει με ζητήματ
  tattoo όπως τεχνοτροπίες, χρωματισμοί, α
 παραίτητοι κανόνες υγιεινής κ.α.  Επίσ
 ης, θα υπάρχουν περίπτερα με tattoo supplies, 
 ίδη ρουχισμού και accessories, gadgets, αερογρα
 φίες, μόνιμο μακιγιάζ κ.α.\nΣε ολόκληρη 
 τη διάρκεια του θα πραγματοποιούνται 
 ρώμενα όπως Art Fusion, όπου 5 καλλιτέχνες 
 ωγραφίζουν σε 5 καμβάδες και κάθε 3 λεπ
 τά αλλάζουν θέση και συνεχίζουν, αλλάζ
 οντας το σχέδιο του προηγούμενου καλλ
 τέχνη βάζοντας τη δική τους φαντασία
  Body Painting Show, Εκθέσεις σχεδίων με επιδε
 ξεις και βράβευση των καλύτερων σχεδί
 ων από αυτά, Διαγωνισμοί καλύτερου tattoo
  ανά κατηγορία όπως Best Color Tattoo Contest, Best Bl
 ack & Grey Tattoo Contest, Best Tattoo of the Show, Graffiti Show, Bik
 e & Skate show, Bondage Show, Acrobatics, Capoeira Show κ.α.\nΤέλ
 ος, θα πραγματοποιηθούν live & dj set τα οπο
 α σύντομα θα ανακοινωθούν.\n\nFor more informat
 ion visit https://blues.gr/events/7th-international-athens-tattoo-conv
 ention
DTSTART;TZID=Europe/Athens:20130510T180000
DTEND;TZID=Europe/Athens:20130512T230000
CATEGORIES:dj, live, event, show
LOCATION:Γήπεδο [Tae Kwon Do]
WEBSITE:
URL:
CONTACT:
ORGANIZER:Red & White Productions
ATTACH;FMTTYPE="image/jpeg":http://storage.ning.com/topology/rest/1.0/
 file/get/2253004401?profile=original
ATTENDEE;ROLE=REQ-PARTICIPANT;PARTSTAT=ACCEPTED;RSVP=TRUE;CN="Rania Ge
 orgiadi":https://blues.gr/profile/RaniaGeorgiadi
ATTENDEE;ROLE=REQ-PARTICIPANT;PARTSTAT=ACCEPTED;RSVP=TRUE;CN="Music Ne
 twork by Michael Limnios":https://blues.gr/profile/MichalisLimnios
END:VEVENT
END:VCALENDAR
