BEGIN:VCALENDAR
PRODID:NingEventWidget-v1
VERSION:2.0
METHOD:PUBLISH
BEGIN:VTIMEZONE
TZID:Europe/Athens
X-LIC-LOCATION:Europe/Athens
BEGIN:DAYLIGHT
TZOFFSETFROM:+0200
TZOFFSETTO:+0300
TZNAME:EEST
DTSTART:19700329T030000
RRULE:FREQ=YEARLY;BYMONTH=3;BYDAY=-1SU
END:DAYLIGHT
BEGIN:STANDARD
TZOFFSETFROM:+0300
TZOFFSETTO:+0200
TZNAME:EET
DTSTART:19701025T040000
RRULE:FREQ=YEARLY;BYMONTH=10;BYDAY=-1SU
END:STANDARD
END:VTIMEZONE
BEGIN:VEVENT
UID:1982923:Event:210020
DTSTAMP:20260423T092652Z
SUMMARY:A Touch Of Blue / Clockwise Παρασκευη 19 Σεπτεμ
 βριου at Seven Times
DESCRIPTION:Στις 19 του Σεπτέμβρη οι A Touch Of Blue
  μαζι με τους Clockwise  θα σας ταξιδεψουν σ
 ε funk,soul και blues μονοπατια!! Σας περιμενο
 υμε!!!!\n\nFor more information visit https://blues.gr/events/a-tou
 ch-of-blue-clockwise
DTSTART;TZID=Europe/Athens:20140919T220000
DTEND;TZID=Europe/Athens:20140920T030000
CATEGORIES:gig
LOCATION:7 Times
WEBSITE:https://www.facebook.com/seventimeslive
URL:https://www.facebook.com/seventimeslive
CONTACT:
ORGANIZER;CN="Giorgos Chrisopoulos":https://blues.gr/profile/GiorgosXr
ATTACH;FMTTYPE="image/jpeg":http://storage.ning.com/topology/rest/1.0/
 file/get/2253027142?profile=original
ATTENDEE;ROLE=REQ-PARTICIPANT;PARTSTAT=ACCEPTED;RSVP=TRUE;CN="Giorgos 
 Chrisopoulos":https://blues.gr/profile/GiorgosXr
END:VEVENT
END:VCALENDAR
