BEGIN:VCALENDAR
PRODID:NingEventWidget-v1
VERSION:2.0
METHOD:PUBLISH
BEGIN:VTIMEZONE
TZID:Europe/Athens
X-LIC-LOCATION:Europe/Athens
BEGIN:DAYLIGHT
TZOFFSETFROM:+0200
TZOFFSETTO:+0300
TZNAME:EEST
DTSTART:19700329T030000
RRULE:FREQ=YEARLY;BYMONTH=3;BYDAY=-1SU
END:DAYLIGHT
BEGIN:STANDARD
TZOFFSETFROM:+0300
TZOFFSETTO:+0200
TZNAME:EET
DTSTART:19701025T040000
RRULE:FREQ=YEARLY;BYMONTH=10;BYDAY=-1SU
END:STANDARD
END:VTIMEZONE
BEGIN:VEVENT
UID:1982923:Event:163496
DTSTAMP:20260423T040100Z
SUMMARY:A Tribute To The Music Of Leonard Cohen (feat. David Lynch)
DESCRIPTION: 20 – 21 και Σάββατο 22 Δεκεμβρίου\
 n Bird On A Wire A Tribute To The Music Of Leonard Cohen (feat. David 
 Lynch)   Σεμέλη Ταγαρά (φωνή, κιθάρα) Κώστ
 ας Μαγγινας (κιθάρα) David Lynch (τενόρο - σ
 οπράνο σαξόφωνο, κρουστά)   Ο Καναδός Le
 onard Cohen είναι ένας από τους σημαντικότε
 ρους τραγουδοποιούς στην ιστορία της R
 ock και παράλληλα ένας χαρισματικός ποι
 ητής και συγγραφέας. Τα τραγούδια του 
 οιάζουν να είναι γεννημένα μέσα από σ
 ιγμές σιωπής με τον ίδιο να διαλογίζε
 ται, να αναπολεί τις μνήμες και τα πάθη
  του, να αναζητά το βαθύτερο νόημα της 
 παρξης του και αν και χαμηλότοκα έχου
  μια εσωτερική ένταση και μια ροη που 
  συναρπάζει. Η μουσική του ευαίσθητη κ
 ι υπνωτική, υπηρετεί πάντα αυτό το συ
 αίσθημα της γλυκιάς μελαγχολίας και 
 ης μοναστικής γοητείας που κουβαλάμε
 οι στίχοι του.\nΗ Σεμέλη Ταγαρά μαζί μ
 ε τον Κώστα Μαγγίνα και τον David Lynch επ
 ισκέπτονται ξανά τον μαγικό κόσμο  το
  Leonard Cohen. χρησιμοποιώντας αυτή τη φόρα
  πολλά ηχοχρώματα  και εφέ επιχειρούν 
 μια σύγχρονη και πρωτοποριακή προσέγγ
 ιση της μουσικής του αποδίδοντας την μ
 ε ένα ηλεκτρικό, εξπρεσιονιστικό σχεδ
 ν πειραματικό τρόπο.\nΗ γνωριμία σας μ
  το Burlesque σίγουρα θα είναι για σας μια
  εμπειρία και η γνωριμία μας με εσάς τι
 μή.\n Μην το χάσει κανείς!!!\n Απεριόριστ
  κατανάλωση βαρελίσιας ξανθιάς μπύρα
  FIX μόνο με 5 ευρώ για τις ώρες 09:00 το πρ
 ί έως 22:00 το βράδυ.   Οι εκπλήξεις του σ
 ας περιμένουν να τις ανακαλύψετε!\n\nΕν
 λλακτικοί τρόποι επικοινωνίας: Σκρα 10
 , Θεσσαλονίκη, 54622(στενό πίσω από την εκ
 κλησία Αγ.Σοφία κάθετο στη Αλ.Σβώλου) Τ
 ηλ. 2310 288 153 E-mail: info@burlesque.gr FACEBOOK: https://www.fa
 cebook.com/Burlesque.cafe.bar TWEETER: Burlesque.gr www.burlesque.gr\n
 \n\nFor more information visit https://blues.gr/events/a-tribute-to-th
 e-music-of-leonard-cohen-feat-david-lynch
DTSTART;TZID=Europe/Athens:20121220T220000
DTEND;TZID=Europe/Athens:20121223T020000
CATEGORIES:live
LOCATION:Burlesque cafe bar stage
WEBSITE:http://www.burlesque.gr
URL:http://www.burlesque.gr
CONTACT:2310 288 153
ORGANIZER;CN="Burlesque cafe bar-stage":https://blues.gr/profile/Burle
 squecafebarstage
ATTACH;FMTTYPE="image/jpeg":http://storage.ning.com/topology/rest/1.0/
 file/get/2252995490?profile=original
ATTENDEE;ROLE=REQ-PARTICIPANT;PARTSTAT=ACCEPTED;RSVP=TRUE;CN="Burlesqu
 e cafe bar-stage":https://blues.gr/profile/Burlesquecafebarstage
END:VEVENT
END:VCALENDAR
