BEGIN:VCALENDAR
PRODID:NingEventWidget-v1
VERSION:2.0
METHOD:PUBLISH
BEGIN:VTIMEZONE
TZID:Europe/Athens
X-LIC-LOCATION:Europe/Athens
BEGIN:DAYLIGHT
TZOFFSETFROM:+0200
TZOFFSETTO:+0300
TZNAME:EEST
DTSTART:19700329T030000
RRULE:FREQ=YEARLY;BYMONTH=3;BYDAY=-1SU
END:DAYLIGHT
BEGIN:STANDARD
TZOFFSETFROM:+0300
TZOFFSETTO:+0200
TZNAME:EET
DTSTART:19701025T040000
RRULE:FREQ=YEARLY;BYMONTH=10;BYDAY=-1SU
END:STANDARD
END:VTIMEZONE
BEGIN:VEVENT
UID:1982923:Event:25349
DTSTAMP:20260419T212821Z
SUMMARY:Adreas Gomozia's Blues Revenge
DESCRIPTION:Blues Live στο In Vivo Live Club : Αντρέας Γκ
 μόζιας (Κιθάρα, Τραγούδι), Τάσος Δρίτσ
 ς (Μπάσο), Χρήστος Ανδριανός (Τύμπανα)\n
 \nFor more information visit https://blues.gr/events/adreas-gomozias-b
 lues-revenge-2
DTSTART;TZID=Europe/Athens:20090502T000000
DTEND;TZID=Europe/Athens:20090502T235900
CATEGORIES:blues, live
LOCATION:79 Charilaou Trikoupi str., Exarcheia,  Athens
WEBSITE:http://www.invivoclub.gr
URL:http://www.invivoclub.gr
CONTACT:210-3822103
ORGANIZER;CN="Tasos Dritsos":https://blues.gr/profile/Tasos
ATTACH;FMTTYPE="image/jpeg":http://storage.ning.com/topology/rest/1.0/
 file/get/2252935422?profile=original
ATTENDEE;ROLE=REQ-PARTICIPANT;PARTSTAT=ACCEPTED;RSVP=TRUE;CN="Tasos Dr
 itsos":https://blues.gr/profile/Tasos
END:VEVENT
END:VCALENDAR
