BEGIN:VCALENDAR
PRODID:NingEventWidget-v1
VERSION:2.0
METHOD:PUBLISH
BEGIN:VTIMEZONE
TZID:Europe/Athens
X-LIC-LOCATION:Europe/Athens
BEGIN:DAYLIGHT
TZOFFSETFROM:+0200
TZOFFSETTO:+0300
TZNAME:EEST
DTSTART:19700329T030000
RRULE:FREQ=YEARLY;BYMONTH=3;BYDAY=-1SU
END:DAYLIGHT
BEGIN:STANDARD
TZOFFSETFROM:+0300
TZOFFSETTO:+0200
TZNAME:EET
DTSTART:19701025T040000
RRULE:FREQ=YEARLY;BYMONTH=10;BYDAY=-1SU
END:STANDARD
END:VTIMEZONE
BEGIN:VEVENT
UID:1982923:Event:25353
DTSTAMP:20260419T163032Z
SUMMARY:Adreas Gomozia's Blues Revenge
DESCRIPTION:Blues Live στο Vinilion Bar: Αντρέας Γκομό
 ιας (Κιθάρα, Τραγούδι), Τάσος Δρίτσος (
 πάσο), Χρήστος Ανδριανός (Τύμπανα) και 
 Γιάννης Κασσέτας (Σαξόφωνο). Εισοδος 15 
 euro με ποτό.\n\nFor more information visit https://blues.gr/eve
 nts/adreas-gomozias-blues-revenge-3
DTSTART;TZID=Europe/Athens:20090509T220000
DTEND;TZID=Europe/Athens:20090509T230000
CATEGORIES:blues, live
LOCATION:Εκτορος 92 και Μενελάου, Ιλιον
WEBSITE:
URL:
CONTACT:210 2692640
ORGANIZER;CN="Tasos Dritsos":https://blues.gr/profile/Tasos
ATTACH;FMTTYPE="image/jpeg":http://storage.ning.com/topology/rest/1.0/
 file/get/2252937144?profile=original
ATTENDEE;ROLE=REQ-PARTICIPANT;PARTSTAT=ACCEPTED;RSVP=TRUE;CN="Tasos Dr
 itsos":https://blues.gr/profile/Tasos
END:VEVENT
END:VCALENDAR
