BEGIN:VCALENDAR
PRODID:NingEventWidget-v1
VERSION:2.0
METHOD:PUBLISH
BEGIN:VTIMEZONE
TZID:Europe/Athens
X-LIC-LOCATION:Europe/Athens
BEGIN:DAYLIGHT
TZOFFSETFROM:+0200
TZOFFSETTO:+0300
TZNAME:EEST
DTSTART:19700329T030000
RRULE:FREQ=YEARLY;BYMONTH=3;BYDAY=-1SU
END:DAYLIGHT
BEGIN:STANDARD
TZOFFSETFROM:+0300
TZOFFSETTO:+0200
TZNAME:EET
DTSTART:19701025T040000
RRULE:FREQ=YEARLY;BYMONTH=10;BYDAY=-1SU
END:STANDARD
END:VTIMEZONE
BEGIN:VEVENT
UID:1982923:Event:23245
DTSTAMP:20260421T064236Z
SUMMARY:Adreas Gomozia's Blues Revenge
DESCRIPTION:Live Blues στο El Viaje bar :\nΑντρέας Γκομ
 ζιας (Κιθάρα, Τραγούδι), Τάσος Δρίτσος 
 (Μπάσο), Κωστής Χριστοδούλου (Hannond) και 
 ρήστος Ανδριανός (Drums)\n\nFor more information visit
  https://blues.gr/events/adreas-gomozias-blues-revenge
DTSTART;TZID=Europe/Athens:20090411T103000
DTEND;TZID=Europe/Athens:20090411T113000
CATEGORIES:blues, live
LOCATION:Κολοκοτρώνη 45, Βύρωνας, 210 7666866
WEBSITE:
URL:
CONTACT:210 7666866
ORGANIZER;CN="Tasos Dritsos":https://blues.gr/profile/Tasos
ATTACH;FMTTYPE="image/jpeg":http://storage.ning.com/topology/rest/1.0/
 file/get/2252939452?profile=original
ATTENDEE;ROLE=REQ-PARTICIPANT;PARTSTAT=ACCEPTED;RSVP=TRUE;CN="Giannis 
 Pachidis":https://blues.gr/profile/ioannis
ATTENDEE;ROLE=REQ-PARTICIPANT;PARTSTAT=ACCEPTED;RSVP=TRUE;CN="Tasos Dr
 itsos":https://blues.gr/profile/Tasos
END:VEVENT
END:VCALENDAR
