BEGIN:VCALENDAR
PRODID:NingEventWidget-v1
VERSION:2.0
METHOD:PUBLISH
BEGIN:VTIMEZONE
TZID:Europe/Athens
X-LIC-LOCATION:Europe/Athens
BEGIN:DAYLIGHT
TZOFFSETFROM:+0200
TZOFFSETTO:+0300
TZNAME:EEST
DTSTART:19700329T030000
RRULE:FREQ=YEARLY;BYMONTH=3;BYDAY=-1SU
END:DAYLIGHT
BEGIN:STANDARD
TZOFFSETFROM:+0300
TZOFFSETTO:+0200
TZNAME:EET
DTSTART:19701025T040000
RRULE:FREQ=YEARLY;BYMONTH=10;BYDAY=-1SU
END:STANDARD
END:VTIMEZONE
BEGIN:VEVENT
UID:1982923:Event:40945
DTSTAMP:20260424T160025Z
SUMMARY:ALBERTIME LIVE @ KITCHEN BAR
DESCRIPTION:OI ALBERTIME εμφανίζονται στο Kitchen Bar, 
 για μια βραδιά, παρουσιάζοντας τραγού
 ια από την νέα δισκογραφική δουλειά τ
 υ Albert(Panagiotopoulou). Pop-rock χορευτικά τραγού
 ια και funk-soul ballads σε αγγλικό και ελληνι
 κό στίχο.\nΠαίζουν κομμάτια από τα προη
 γούμενα fusion cd's του Albert και αγαπημένες 
 νωστές διασκευές.\nA Power Beat experience!!\n\nFor mo
 re information visit https://blues.gr/events/albertime-live-kitchen-ba
 r
DTSTART;TZID=Europe/Athens:20100129T230000
DTEND;TZID=Europe/Athens:20100130T020000
CATEGORIES:albertime, live
LOCATION:\"KITCHEN BAR\"
WEBSITE:
URL:
CONTACT:
ORGANIZER;CN=fiona:https://blues.gr/profile/fiona
ATTACH;FMTTYPE="image/jpeg":http://storage.ning.com/topology/rest/1.0/
 file/get/2252938803?profile=original
ATTENDEE;ROLE=REQ-PARTICIPANT;PARTSTAT=ACCEPTED;RSVP=TRUE;CN=fiona:htt
 ps://blues.gr/profile/fiona
END:VEVENT
END:VCALENDAR
