BEGIN:VCALENDAR
PRODID:NingEventWidget-v1
VERSION:2.0
METHOD:PUBLISH
BEGIN:VTIMEZONE
TZID:Europe/Athens
X-LIC-LOCATION:Europe/Athens
BEGIN:DAYLIGHT
TZOFFSETFROM:+0200
TZOFFSETTO:+0300
TZNAME:EEST
DTSTART:19700329T030000
RRULE:FREQ=YEARLY;BYMONTH=3;BYDAY=-1SU
END:DAYLIGHT
BEGIN:STANDARD
TZOFFSETFROM:+0300
TZOFFSETTO:+0200
TZNAME:EET
DTSTART:19701025T040000
RRULE:FREQ=YEARLY;BYMONTH=10;BYDAY=-1SU
END:STANDARD
END:VTIMEZONE
BEGIN:VEVENT
UID:1982923:Event:50269
DTSTAMP:20260422T123336Z
SUMMARY:ALBERTIME LIVE
DESCRIPTION:Οι Albertime στο BACARO.\nΤρίτη 13 Απριλί
 υ ώρα 22:30, Σοφοκλέους 1 & Αριστείδου.\nΕί
 σοδος ελεύθερη.\n\n210.3211882\n\nFor more information vi
 sit https://blues.gr/events/albertime-live
DTSTART;TZID=Europe/Athens:20100413T223000
DTEND;TZID=Europe/Athens:20100414T003000
CATEGORIES:albertime, live
LOCATION:BACARO
WEBSITE:
URL:
CONTACT:
ORGANIZER;CN=fiona:https://blues.gr/profile/fiona
ATTACH;FMTTYPE="image/jpeg":http://storage.ning.com/topology/rest/1.0/
 file/get/2252941350?profile=original
ATTENDEE;ROLE=REQ-PARTICIPANT;PARTSTAT=ACCEPTED;RSVP=TRUE;CN=fiona:htt
 ps://blues.gr/profile/fiona
END:VEVENT
END:VCALENDAR
