BEGIN:VCALENDAR
PRODID:NingEventWidget-v1
VERSION:2.0
METHOD:PUBLISH
BEGIN:VTIMEZONE
TZID:Europe/Athens
X-LIC-LOCATION:Europe/Athens
BEGIN:DAYLIGHT
TZOFFSETFROM:+0200
TZOFFSETTO:+0300
TZNAME:EEST
DTSTART:19700329T030000
RRULE:FREQ=YEARLY;BYMONTH=3;BYDAY=-1SU
END:DAYLIGHT
BEGIN:STANDARD
TZOFFSETFROM:+0300
TZOFFSETTO:+0200
TZNAME:EET
DTSTART:19701025T040000
RRULE:FREQ=YEARLY;BYMONTH=10;BYDAY=-1SU
END:STANDARD
END:VTIMEZONE
BEGIN:VEVENT
UID:1982923:Event:110848
DTSTAMP:20260422T145422Z
SUMMARY:All Star Blues Jam..@ Vinilion
DESCRIPTION:\nALL STAR BLUES JAM στο Vinilion  Το μπλουζ ε
 ίναι ο πηγαίος και αυθόρμητος χτύπος τ
 ης καρδιάς. Είναι το βουητό της ανθρώπ
 νης ψυχής που αυτοσχεδιάζει παίζοντα
  με τα τερτίπια της ζωής. Είναι οι κινή
 σεις του σώματος και το παιχνίδι των μ
 τιών απέναντι στον έρωτα, τη φύση, τον 
 ήλιο και τη νύχτα. Όλα αυτά χώθηκαν στο
  μυαλό μας ένα όμορφο βράδυ του Σεπτέμ
 ρη. Αναζητήσαμε τον τρόπο όλα αυτά να 
 α εκθέσουμε για να τα δει ο κόσμος κ...α
 ι να μοιραστεί μαζί μας τα μοναδικά συ
 αισθήματα που το μπλουζ γεννάει αναδυ
 όμενο από τις εσχατιές της ανθρώπινης 
 υπόστασης. Πάμε λοιπόν: Ένα ALL STAR BLUES JAM 
 το Vinilion με καλλιτέχνες γνωστούς και κ
 ταξιωμένους με πολλά χρόνια παρουσία
  στη μουσική σκηνή του τόπου μας. Μια β
 ραδιά εκτός σχεδίου, αυθόρμητη αλλά συ
 γκινισιακή και γεμάτη συναίσθημα. Σας 
 περιμένουμε όλους. ΕΙΣΟΔΟΣ ΜΕ ΜΠΥΡΑ- Κ
 ΑΣΙ 10 ΕΥΡΩ\n\nFor more information visit https://blues.gr/eve
 nts/all-star-blues-jam-vinilion
DTSTART;TZID=Europe/Athens:20110924T000000
DTEND;TZID=Europe/Athens:20110924T235900
CATEGORIES:all, star, blues, jam
LOCATION:VinIlion
WEBSITE:
URL:
CONTACT:2102692640
ORGANIZER;CN="Giannis Pachidis":https://blues.gr/profile/ioannis
ATTACH;FMTTYPE="image/jpeg":http://storage.ning.com/topology/rest/1.0/
 file/get/2252955163?profile=original
ATTENDEE;ROLE=REQ-PARTICIPANT;PARTSTAT=ACCEPTED;RSVP=TRUE;CN="Theo and
  The Boogie Sinners":https://blues.gr/profile/AlexiouTheodoros
ATTENDEE;ROLE=REQ-PARTICIPANT;PARTSTAT=ACCEPTED;RSVP=TRUE;CN="Thanasis
  Giokas":https://blues.gr/profile/giokasthanasis
ATTENDEE;ROLE=REQ-PARTICIPANT;PARTSTAT=ACCEPTED;RSVP=TRUE;CN="Antonopo
 ulos Giannis":https://blues.gr/profile/AntonopoulosGiannis
ATTENDEE;ROLE=REQ-PARTICIPANT;PARTSTAT=ACCEPTED;RSVP=TRUE;CN="Dimitris
  Ioannou":https://blues.gr/profile/DimitrisIoannou
ATTENDEE;ROLE=REQ-PARTICIPANT;PARTSTAT=ACCEPTED;RSVP=TRUE;CN="Giannis 
 Pachidis":https://blues.gr/profile/ioannis
ATTENDEE;ROLE=REQ-PARTICIPANT;PARTSTAT=TENTATIVE;RSVP=TRUE;CN=panos_m:
 https://blues.gr/profile/panos_m
END:VEVENT
END:VCALENDAR
