BEGIN:VCALENDAR
PRODID:NingEventWidget-v1
VERSION:2.0
METHOD:PUBLISH
BEGIN:VTIMEZONE
TZID:Europe/Athens
X-LIC-LOCATION:Europe/Athens
BEGIN:DAYLIGHT
TZOFFSETFROM:+0200
TZOFFSETTO:+0300
TZNAME:EEST
DTSTART:19700329T030000
RRULE:FREQ=YEARLY;BYMONTH=3;BYDAY=-1SU
END:DAYLIGHT
BEGIN:STANDARD
TZOFFSETFROM:+0300
TZOFFSETTO:+0200
TZNAME:EET
DTSTART:19701025T040000
RRULE:FREQ=YEARLY;BYMONTH=10;BYDAY=-1SU
END:STANDARD
END:VTIMEZONE
BEGIN:VEVENT
UID:1982923:Event:68255
DTSTAMP:20260421T105746Z
SUMMARY:An Evening of Blues and Booze
DESCRIPTION:An Evening Of Blues And Booze In Laid Back Kontokali.\nBlu
 es, Rhythm n Blues, Chicago Blues, Texas Rock and more\n\nFor more inf
 ormation visit https://blues.gr/events/an-evening-of-blues-and-booze
DTSTART;TZID=Europe/Athens:20100910T213000
DTEND;TZID=Europe/Athens:20100911T003000
CATEGORIES:blues, night
LOCATION:G 'n M's Bar, Kontokali, Corfu
WEBSITE:
URL:
CONTACT:6932776094
ORGANIZER;CN="George Gedling":https://blues.gr/profile/GeorgeGedling
ATTACH;FMTTYPE="image/jpeg":http://storage.ning.com/topology/rest/1.0/
 file/get/2252943420?profile=original
ATTENDEE;ROLE=REQ-PARTICIPANT;PARTSTAT=ACCEPTED;RSVP=TRUE;CN="George G
 edling":https://blues.gr/profile/GeorgeGedling
END:VEVENT
END:VCALENDAR
