BEGIN:VCALENDAR
PRODID:NingEventWidget-v1
VERSION:2.0
METHOD:PUBLISH
BEGIN:VTIMEZONE
TZID:Europe/Athens
X-LIC-LOCATION:Europe/Athens
BEGIN:DAYLIGHT
TZOFFSETFROM:+0200
TZOFFSETTO:+0300
TZNAME:EEST
DTSTART:19700329T030000
RRULE:FREQ=YEARLY;BYMONTH=3;BYDAY=-1SU
END:DAYLIGHT
BEGIN:STANDARD
TZOFFSETFROM:+0300
TZOFFSETTO:+0200
TZNAME:EET
DTSTART:19701025T040000
RRULE:FREQ=YEARLY;BYMONTH=10;BYDAY=-1SU
END:STANDARD
END:VTIMEZONE
BEGIN:VEVENT
UID:1982923:Event:42177
DTSTAMP:20260421T220236Z
SUMMARY:And the Beats go on and the Blues goes on at VINILION
DESCRIPTION:ΛΑΜΒΑΝΟΥΝ ΜΕΡΟΣ ΟΙ\n\nΒΛΑΣΗΣ ΡΑΣ
 ΙΑΣ, ΦΙΛΟΣΟΦΟΣ ΣΥΓΓΡΑΦΕΑΣ\n\nΝΙΚΟΣ ΚΑΛ
 ΓΕΡΟΠΟΥΛΟΣ, ΗΘΟΠΟΙΟΣ ΣΥΓΓΡΑΦΕΑΣ\n\nΔΗΜ
 ΗΤΡΗΣ (ΕΠΙΚΟΥΡΗΣ) ΚΟΚΚΙΝΟΣ ΣΥΓΓΡΑΦΕΑΣ\
 n\nBLUES CARGO CHICAGO BLUES BAND\n\nSMALL BLUES TRAP BLUES BAND\n\nFo
 r more information visit https://blues.gr/events/and-the-beats-go-on-a
 nd-the
DTSTART;TZID=Europe/Athens:20100219T223000
DTEND;TZID=Europe/Athens:20100220T140000
CATEGORIES:beats, and, blues, happening
LOCATION:ILION
WEBSITE:
URL:
CONTACT:2102692640
ORGANIZER:VINILION
ATTACH;FMTTYPE="image/jpeg":http://storage.ning.com/topology/rest/1.0/
 file/get/2252943109?profile=original
ATTENDEE;ROLE=REQ-PARTICIPANT;PARTSTAT=ACCEPTED;RSVP=TRUE;CN="Dimitris
  Antonakakis":https://blues.gr/profile/DimitrisAntonakakis
ATTENDEE;ROLE=REQ-PARTICIPANT;PARTSTAT=ACCEPTED;RSVP=TRUE;CN="Small Bl
 ues Trap":https://blues.gr/profile/SmallBluesTrap
ATTENDEE;ROLE=REQ-PARTICIPANT;PARTSTAT=ACCEPTED;RSVP=TRUE;CN=BlackCatB
 one:https://blues.gr/profile/BlackCatBone
ATTENDEE;ROLE=REQ-PARTICIPANT;PARTSTAT=ACCEPTED;RSVP=TRUE;CN="Dimitris
  Ioannou":https://blues.gr/profile/DimitrisIoannou
ATTENDEE;ROLE=REQ-PARTICIPANT;PARTSTAT=TENTATIVE;RSVP=TRUE;CN=panos_m:
 https://blues.gr/profile/panos_m
END:VEVENT
END:VCALENDAR
