BEGIN:VCALENDAR
PRODID:NingEventWidget-v1
VERSION:2.0
METHOD:PUBLISH
BEGIN:VTIMEZONE
TZID:Europe/Athens
X-LIC-LOCATION:Europe/Athens
BEGIN:DAYLIGHT
TZOFFSETFROM:+0200
TZOFFSETTO:+0300
TZNAME:EEST
DTSTART:19700329T030000
RRULE:FREQ=YEARLY;BYMONTH=3;BYDAY=-1SU
END:DAYLIGHT
BEGIN:STANDARD
TZOFFSETFROM:+0300
TZOFFSETTO:+0200
TZNAME:EET
DTSTART:19701025T040000
RRULE:FREQ=YEARLY;BYMONTH=10;BYDAY=-1SU
END:STANDARD
END:VTIMEZONE
BEGIN:VEVENT
UID:1982923:Event:40235
DTSTAMP:20260421T183509Z
SUMMARY:and the Beats go on...
DESCRIPTION:\n\nwww.vinilion.gr\n\nΒΛΑΣΗΣ ΡΑΣΣΙΑΣ\n\n\nΝ
 ΙΚΟΣ ΚΑΛΟΓΕΡΟΠΟΥΛΟΣ\n\n\nBLUES CARGO\n\n\nSMALL BLUE
 S TRAP\n\n\nFor more information visit https://blues.gr/events/and-the
 -beats-go-on
DTSTART;TZID=Europe/Athens:20100219T000000
DTEND;TZID=Europe/Athens:20100219T235900
CATEGORIES:beat, "generation...&", "blues..."
LOCATION:VINILION
WEBSITE:http://www.vinilion.gr/map.html
URL:http://www.vinilion.gr/map.html
CONTACT:210 2692640
ORGANIZER:VINILION
ATTACH;FMTTYPE="image/jpeg":http://storage.ning.com/topology/rest/1.0/
 file/get/2252938883?profile=original
ATTENDEE;ROLE=REQ-PARTICIPANT;PARTSTAT=ACCEPTED;RSVP=TRUE;CN="tony dol
 laro":https://blues.gr/profile/tonydollaro
ATTENDEE;ROLE=REQ-PARTICIPANT;PARTSTAT=ACCEPTED;RSVP=TRUE;CN="Dimitris
  Antonakakis":https://blues.gr/profile/DimitrisAntonakakis
ATTENDEE;ROLE=REQ-PARTICIPANT;PARTSTAT=ACCEPTED;RSVP=TRUE;CN="Paul Xen
 os ( J. Warbird)":https://blues.gr/profile/PaulXenos
ATTENDEE;ROLE=REQ-PARTICIPANT;PARTSTAT=ACCEPTED;RSVP=TRUE;CN=BlackCatB
 one:https://blues.gr/profile/BlackCatBone
ATTENDEE;ROLE=REQ-PARTICIPANT;PARTSTAT=ACCEPTED;RSVP=TRUE;CN="Tsiamtsi
 kas Nikolaos":https://blues.gr/profile/TsiamtsikasNikolaos
ATTENDEE;ROLE=REQ-PARTICIPANT;PARTSTAT=ACCEPTED;RSVP=TRUE;CN="Small Bl
 ues Trap":https://blues.gr/profile/SmallBluesTrap
ATTENDEE;ROLE=REQ-PARTICIPANT;PARTSTAT=TENTATIVE;RSVP=TRUE;CN=christro
 s:https://blues.gr/profile/christros
ATTENDEE;ROLE=REQ-PARTICIPANT;PARTSTAT=TENTATIVE;RSVP=TRUE;CN="Drummat
 ic Style":https://blues.gr/profile/style
ATTENDEE;ROLE=REQ-PARTICIPANT;PARTSTAT=TENTATIVE;RSVP=TRUE;CN="barbout
 is yiannis":https://blues.gr/profile/barbutisyiannis
END:VEVENT
END:VCALENDAR
