BEGIN:VCALENDAR
PRODID:NingEventWidget-v1
VERSION:2.0
METHOD:PUBLISH
BEGIN:VTIMEZONE
TZID:Europe/Athens
X-LIC-LOCATION:Europe/Athens
BEGIN:DAYLIGHT
TZOFFSETFROM:+0200
TZOFFSETTO:+0300
TZNAME:EEST
DTSTART:19700329T030000
RRULE:FREQ=YEARLY;BYMONTH=3;BYDAY=-1SU
END:DAYLIGHT
BEGIN:STANDARD
TZOFFSETFROM:+0300
TZOFFSETTO:+0200
TZNAME:EET
DTSTART:19701025T040000
RRULE:FREQ=YEARLY;BYMONTH=10;BYDAY=-1SU
END:STANDARD
END:VTIMEZONE
BEGIN:VEVENT
UID:1982923:Event:42569
DTSTAMP:20260422T044359Z
SUMMARY:andreas gomozia's blues revenge (www.myspace.com/tasosdritsos)
DESCRIPTION:Blues Live στο Parafono Jazz and Blues bar : Αντρέ
 ας Γκομόζιας (Κιθάρα, Τραγούδι), Τάσος 
 ρίτσος (Μπάσο), Χρήστος Ανδριανός (Drums)\
 n\nFor more information visit https://blues.gr/events/andreas-gomozias
 -blues-revenge-11
DTSTART;TZID=Europe/Athens:20100220T230000
DTEND;TZID=Europe/Athens:20100221T000000
CATEGORIES:live, blues
LOCATION:Parafono Jazz and Blues bar, Ασκληπιού 130α και 
 Σ.Κυρήνης 1
WEBSITE:http://www.parafono.gr
URL:http://www.parafono.gr
CONTACT:2106446512
ORGANIZER;CN="Tasos Dritsos":https://blues.gr/profile/Tasos
ATTACH;FMTTYPE="image/jpeg":http://storage.ning.com/topology/rest/1.0/
 file/get/2252937705?profile=original
ATTENDEE;ROLE=REQ-PARTICIPANT;PARTSTAT=ACCEPTED;RSVP=TRUE;CN="Tasos Dr
 itsos":https://blues.gr/profile/Tasos
END:VEVENT
END:VCALENDAR
