BEGIN:VCALENDAR
PRODID:NingEventWidget-v1
VERSION:2.0
METHOD:PUBLISH
BEGIN:VTIMEZONE
TZID:Europe/Athens
X-LIC-LOCATION:Europe/Athens
BEGIN:DAYLIGHT
TZOFFSETFROM:+0200
TZOFFSETTO:+0300
TZNAME:EEST
DTSTART:19700329T030000
RRULE:FREQ=YEARLY;BYMONTH=3;BYDAY=-1SU
END:DAYLIGHT
BEGIN:STANDARD
TZOFFSETFROM:+0300
TZOFFSETTO:+0200
TZNAME:EET
DTSTART:19701025T040000
RRULE:FREQ=YEARLY;BYMONTH=10;BYDAY=-1SU
END:STANDARD
END:VTIMEZONE
BEGIN:VEVENT
UID:1982923:Event:43949
DTSTAMP:20260422T185153Z
SUMMARY:andreas gomozia's blues revenge (www.myspace.com/tasosdritsos)
DESCRIPTION:Blues Live στο Joke Cafe : Αντρέας Γκομόζ
 ας (Κιθάρα, Τραγούδι), Τάσος Δρίτσος (Κ
 ντραμπάσο), Χρήστος Ανδριανός (Drums) και
  o Γιώργος Πανούσης (Φυσαρμόνικα)\n\nFor mor
 e information visit https://blues.gr/events/andreas-gomozias-blues-rev
 enge-13
DTSTART;TZID=Europe/Athens:20100301T223000
DTEND;TZID=Europe/Athens:20100301T233000
CATEGORIES:live, blues
LOCATION:Joke Cafe, Ομήρου 13, Αθηνα, 2103646026
WEBSITE:
URL:
CONTACT:2103646026
ORGANIZER;CN="Tasos Dritsos":https://blues.gr/profile/Tasos
ATTACH;FMTTYPE="image/jpeg":http://storage.ning.com/topology/rest/1.0/
 file/get/2252939443?profile=original
ATTENDEE;ROLE=REQ-PARTICIPANT;PARTSTAT=ACCEPTED;RSVP=TRUE;CN="Tasos Dr
 itsos":https://blues.gr/profile/Tasos
END:VEVENT
END:VCALENDAR
