BEGIN:VCALENDAR
PRODID:NingEventWidget-v1
VERSION:2.0
METHOD:PUBLISH
BEGIN:VTIMEZONE
TZID:Europe/Athens
X-LIC-LOCATION:Europe/Athens
BEGIN:DAYLIGHT
TZOFFSETFROM:+0200
TZOFFSETTO:+0300
TZNAME:EEST
DTSTART:19700329T030000
RRULE:FREQ=YEARLY;BYMONTH=3;BYDAY=-1SU
END:DAYLIGHT
BEGIN:STANDARD
TZOFFSETFROM:+0300
TZOFFSETTO:+0200
TZNAME:EET
DTSTART:19701025T040000
RRULE:FREQ=YEARLY;BYMONTH=10;BYDAY=-1SU
END:STANDARD
END:VTIMEZONE
BEGIN:VEVENT
UID:1982923:Event:35810
DTSTAMP:20260425T045614Z
SUMMARY:andreas gomozia's blues revenge -with GEORGE KONTRAFOURIS on H
 ammond (www.myspace.com/tasosdritsos)
DESCRIPTION:Ο Γιώργος Κοντραφούρης σε μια μ
 ναδική βραδιά παίζει τα blues μαζί με το
 ς Αντρέα Γκομόζια (Κιθάρα,Τραγούδι), Τ
 σο Δρίτσο (Μπάσο) και Χρήστο Ανδριανό (
 Drums)\n\nFor more information visit https://blues.gr/events/andreas-g
 omozias-blues-revenge-2
DTSTART;TZID=Europe/Athens:20091222T230000
DTEND;TZID=Europe/Athens:20091223T000000
CATEGORIES:blues, jump, swing, gig, groove, live
LOCATION:Bacaro Bar, Σοφοκλέους 1 & Αριστείδου 11,
  3211882
WEBSITE:http://www.bacaro.gr
URL:http://www.bacaro.gr
CONTACT:210 3211882
ORGANIZER;CN="Tasos Dritsos":https://blues.gr/profile/Tasos
ATTACH;FMTTYPE="image/jpeg":http://storage.ning.com/topology/rest/1.0/
 file/get/2252937705?profile=original
ATTENDEE;ROLE=REQ-PARTICIPANT;PARTSTAT=ACCEPTED;RSVP=TRUE;CN="Giannis 
 Pachidis":https://blues.gr/profile/ioannis
ATTENDEE;ROLE=REQ-PARTICIPANT;PARTSTAT=ACCEPTED;RSVP=TRUE;CN="George \
 "Whiskey\" Stefanakis":https://blues.gr/profile/GeorgeStefanakis
ATTENDEE;ROLE=REQ-PARTICIPANT;PARTSTAT=ACCEPTED;RSVP=TRUE;CN="Tasos Dr
 itsos":https://blues.gr/profile/Tasos
END:VEVENT
END:VCALENDAR
