BEGIN:VCALENDAR
PRODID:NingEventWidget-v1
VERSION:2.0
METHOD:PUBLISH
BEGIN:VTIMEZONE
TZID:Europe/Athens
X-LIC-LOCATION:Europe/Athens
BEGIN:DAYLIGHT
TZOFFSETFROM:+0200
TZOFFSETTO:+0300
TZNAME:EEST
DTSTART:19700329T030000
RRULE:FREQ=YEARLY;BYMONTH=3;BYDAY=-1SU
END:DAYLIGHT
BEGIN:STANDARD
TZOFFSETFROM:+0300
TZOFFSETTO:+0200
TZNAME:EET
DTSTART:19701025T040000
RRULE:FREQ=YEARLY;BYMONTH=10;BYDAY=-1SU
END:STANDARD
END:VTIMEZONE
BEGIN:VEVENT
UID:1982923:Event:38930
DTSTAMP:20260423T102101Z
SUMMARY:andreas gomozia's blues revenge (www.myspace.com/tasosdritsos)
DESCRIPTION:Blues Live στο Egalite Cafe bar : Αντρέας Γκο
 μόζιας (Κιθάρα, Φωνή), Τάσος Δρίτσος (Μπ
 άσο) και Χρήστος Ανδριανός (Τύμπανα).\n\n
 For more information visit https://blues.gr/events/andreas-gomozias-bl
 ues-revenge-7
DTSTART;TZID=Europe/Athens:20100115T230000
DTEND;TZID=Europe/Athens:20100116T000000
CATEGORIES:blues, jump, swing, gig, groove, live
LOCATION:Egalite Cafe Bar, Γ. Αβέρωφ 36, Ν. Ιωνία (Στα
 θμός Πευκάκια)
WEBSITE:http://www.egalite.gr
URL:http://www.egalite.gr
CONTACT:
ORGANIZER;CN="Tasos Dritsos":https://blues.gr/profile/Tasos
ATTACH;FMTTYPE="image/jpeg":http://storage.ning.com/topology/rest/1.0/
 file/get/2252937705?profile=original
ATTENDEE;ROLE=REQ-PARTICIPANT;PARTSTAT=ACCEPTED;RSVP=TRUE;CN="Tasos Dr
 itsos":https://blues.gr/profile/Tasos
END:VEVENT
END:VCALENDAR
