BEGIN:VCALENDAR
PRODID:NingEventWidget-v1
VERSION:2.0
METHOD:PUBLISH
BEGIN:VTIMEZONE
TZID:Europe/Athens
X-LIC-LOCATION:Europe/Athens
BEGIN:DAYLIGHT
TZOFFSETFROM:+0200
TZOFFSETTO:+0300
TZNAME:EEST
DTSTART:19700329T030000
RRULE:FREQ=YEARLY;BYMONTH=3;BYDAY=-1SU
END:DAYLIGHT
BEGIN:STANDARD
TZOFFSETFROM:+0300
TZOFFSETTO:+0200
TZNAME:EET
DTSTART:19701025T040000
RRULE:FREQ=YEARLY;BYMONTH=10;BYDAY=-1SU
END:STANDARD
END:VTIMEZONE
BEGIN:VEVENT
UID:1982923:Event:18874
DTSTAMP:20260423T193724Z
SUMMARY:Andreas Gomozia's Blues Revenge
DESCRIPTION:Blues Live στο Γρανάζι Bar με τους Αντ
 έα Γκομόζια (Κιθάρα, Τραγούδι), Τάσο Δρ
 ίτσο (Μπάσο), Κωστή Χριστοδούλου (Hammond) 
 αι Χρήστο Ανδριανό (Τύμπανα)\n\nFor more infor
 mation visit https://blues.gr/events/andreas-gomozias-blues-revenge
DTSTART;TZID=Europe/Athens:20090314T230000
DTEND;TZID=Europe/Athens:20090315T000000
CATEGORIES:blues, live
LOCATION:Γρανάζι Bar. Αινείου 1 , Πλ. Δέγλερη ,
  Περιστέρι
WEBSITE:http://granazi.blogspot.com/
URL:http://granazi.blogspot.com/
CONTACT:
ORGANIZER;CN="Tasos Dritsos":https://blues.gr/profile/Tasos
ATTACH;FMTTYPE="image/jpeg":http://storage.ning.com/topology/rest/1.0/
 file/get/2252936764?profile=original
ATTENDEE;ROLE=REQ-PARTICIPANT;PARTSTAT=ACCEPTED;RSVP=TRUE;CN="Giannis 
 Pachidis":https://blues.gr/profile/ioannis
ATTENDEE;ROLE=REQ-PARTICIPANT;PARTSTAT=ACCEPTED;RSVP=TRUE;CN="Tasos Dr
 itsos":https://blues.gr/profile/Tasos
ATTENDEE;ROLE=REQ-PARTICIPANT;PARTSTAT=TENTATIVE;RSVP=TRUE;CN="JOHN AN
 GELATOS-Red Rooster Prod.":https://blues.gr/profile/JohnAngelatos
ATTENDEE;ROLE=REQ-PARTICIPANT;PARTSTAT=TENTATIVE;RSVP=TRUE;CN="tony do
 llaro":https://blues.gr/profile/tonydollaro
END:VEVENT
END:VCALENDAR
