BEGIN:VCALENDAR
PRODID:NingEventWidget-v1
VERSION:2.0
METHOD:PUBLISH
BEGIN:VTIMEZONE
TZID:Europe/Athens
X-LIC-LOCATION:Europe/Athens
BEGIN:DAYLIGHT
TZOFFSETFROM:+0200
TZOFFSETTO:+0300
TZNAME:EEST
DTSTART:19700329T030000
RRULE:FREQ=YEARLY;BYMONTH=3;BYDAY=-1SU
END:DAYLIGHT
BEGIN:STANDARD
TZOFFSETFROM:+0300
TZOFFSETTO:+0200
TZNAME:EET
DTSTART:19701025T040000
RRULE:FREQ=YEARLY;BYMONTH=10;BYDAY=-1SU
END:STANDARD
END:VTIMEZONE
BEGIN:VEVENT
UID:1982923:Event:490595
DTSTAMP:20260419T194955Z
SUMMARY:Andreas Gomozias Trio
DESCRIPTION:\r\nAndreas Gomozias Trio\r\n\r\n\r\n\r\nΑντρέας Γ
 κομόζιας-ηλ.κιθάρα\r\nΜάνος Λούτας-μπάσ
 ο\r\nΧρήστος Κουτσογιάννης-ντραμς\r\n\r\n\r
 \n\r\n4 Νοεμβρίου 2023\r\nΣτις 19:30\r\nΑντίθεση,
  Λιοσίων 216, 1ος όροφος, στάση ΙΚΑ.\r\nΕίσ
 δος ελεύθερη\r\n\r\n\r\nΜε πάνω από 40 χρόνι
 α παρουσία στη Blues σκηνή ο Ανδρέας Γκομ
 όζιας συνδυάζει Jazz και Blues στοιχεία με 
 χαρακτηριστικό Swing feeling, αγγίζοντας πό
 ε το Rock’n’Roll και πότε τη Country. \r\n \r\n\r\nΜ
 αζί του ο ΜΑΝΟΣ ΛΟΥΤΑΣ στο μπάσο. Έχει 
 μφανιστεί σε πολλές χώρες και έχει δο
 λέψει για χρόνια στην Αμερική όπου σπ
 ύδασε Jazz Bass. Δισκογραφία και εμφανίσε
 ς με τα μεγαλύτερα ονόματα στην Ελλάδ
  και διάσημους καλλιτέχνες από το εξω
 ερικό (David Liebman, Andy Sheppard, Alex Foster κ.α.). Kαι
  ο ΧΡΗΣΤΟΣ ΚΟΥΤΣΟΓΙΑΝΝΗΣ στα τύμπανα. 
 Έχει εμφανιστεί σε 24 χώρες και έχει συ
 εργαστεί με σημαντικούς καλλιτέχνες 
 πό την Ελλάδα. Δισκογραφία και εμφανί
 σεις με μεγάλα ονόματα από το εξωτερικ
 ό (The Tiger Lillies, Meschyia Lake κ.α.). Συνδημιουργό
 ς του ντουέτου Opera Chaotique.\r\n\r\n\r\n\r\n\r\nΟ Αν
 δρέας Γκομόζιας συνεργάστηκε με σημαν
 τικούς μουσικούς όπως ο Βρετανός κιθα
 ίστας Mick Taylor (ex Rolling Stones, Bob Dylan, John Mayall), 
  Bluesman από το Chicago Michael Dotson (ex Magic Silm), το Co
 untry ντουέτο από το Nashville των Jim & Minnie Murphy 
 και ο Λουκιανός Κηλαηδόνης. Ιδρυτής τω
 ν Drifting Around, Country Gentlemen, Blues Revenge και για χ
 όνια μέλος των Blues Family και των Cadillacs το
  Johnny Vavoura, και σε πολλα αλλα σχηματα.\r\n\
 r\n\r\n\r\n\r\n\n\nFor more information visit https://blues.gr/events/
 andreas-gomozias-trio
DTSTART;TZID=Europe/Athens:20231104T000000
DTEND;TZID=Europe/Athens:20231104T235900
CATEGORIES:blues
LOCATION:Αντίθεση
WEBSITE:https://www.facebook.com/events/1368695727332317?ref=newsfeed
URL:https://www.facebook.com/events/1368695727332317?ref=newsfeed
CONTACT:
ORGANIZER:Αντίθεση
ATTACH;FMTTYPE="image/jpeg":https://storage.ning.com/topology/rest/1.0
 /file/get/12263825498?profile=original
ATTENDEE;ROLE=REQ-PARTICIPANT;PARTSTAT=ACCEPTED;RSVP=TRUE;CN="Music Ne
 twork by Michael Limnios":https://blues.gr/profile/MichalisLimnios
END:VEVENT
END:VCALENDAR
