BEGIN:VCALENDAR
PRODID:NingEventWidget-v1
VERSION:2.0
METHOD:PUBLISH
BEGIN:VTIMEZONE
TZID:Europe/Athens
X-LIC-LOCATION:Europe/Athens
BEGIN:DAYLIGHT
TZOFFSETFROM:+0200
TZOFFSETTO:+0300
TZNAME:EEST
DTSTART:19700329T030000
RRULE:FREQ=YEARLY;BYMONTH=3;BYDAY=-1SU
END:DAYLIGHT
BEGIN:STANDARD
TZOFFSETFROM:+0300
TZOFFSETTO:+0200
TZNAME:EET
DTSTART:19701025T040000
RRULE:FREQ=YEARLY;BYMONTH=10;BYDAY=-1SU
END:STANDARD
END:VTIMEZONE
BEGIN:VEVENT
UID:1982923:Event:270581
DTSTAMP:20260423T132320Z
SUMMARY:Art Jam: Νίκος Δεληγιάννης - Οδυσσέας 
 Γαλανάκης
DESCRIPTION:Ο Νίκος Δεληγιάννης και ο Οδυσσ
 ας Γαλανάκης, κιθαρίστες και εικαστικ
 οί – ζωγράφοι και γλύπτες - επανέρχοντ
 αι στο Black Duck με την δεύτερη ιδιότητά τ
 υς, για να παρουσιάσουν μια σειρά έργω
 ν,  σε μία πολύ ιδιαίτερη έκθεση. Από τ
 ς 27 Νοεμβρίου έως τις 8 Δεκεμβρίου. Μελ
 άνι, πηλός, μολύβι, μάρμαρο, πέτρα, δένο
 υν αρμονικά στο ’’πραγματικό’’ και 
 το ’’αδύνατο να συμβεί’’…\r\nΣαρκασ
 ός, αντίδραση και κριτική στο σύγχρον
  κοινωνικό γίγνεσθαι, χιούμορ και ανα
 ροπή.\r\n\r\nΟ Νίκος Δεληγιάννης γράφει:\r
 \n «...Δέν έχω επιλογές ...          \r\n   
     θα πώ ...είμαι ΑΥΤΟΔΙΔΑΚΤΟΣ ...\r\n   
                     γιατί απλά, μου ε
 ναι δύσκολo να προσδιορίσω και να υπο -
  δείξω τους δασκάλους  μου...\r\n       
                Γεννήθηκα στην ΑΘΗΝΑ 
 ο 1959\r\n         Μικρός , δεν μιλούσα πο
 λύ, παρατηρούσα όμως τα πάντα \r\n     
    Δεν εκφραζόμουν πολύ, ζωγράφιζα αυ
 ά που ένιωθα...\r\n         Με μια γόμα, 
 σβηνα τα σύννεφα και έφτιαχνα ηλιαχτί
 δες\r\n         Έβαζα τα γέλια, εκεί που
  είχε δάκρυα, μέχρι που το χαρτί ...  τρυ
 πούσε από τη χρήση ... και κοιμόμουν ...\r\
 n        Δεν έχω επιλογές»\r\nΟ Οδυσσέα
  Γαλανάκης  γεννήθηκε το 1960 στο Κονγκ
 , στη γραμμή του ισημερινού, από γονεί
  μετανάστες. Kατάγεται από τον Άη Στρά
 η. Στα 15 του αρχίζει να ασχολείται με τ
 ην κιθάρα και μαζί με τον Βασίλη Πετρί
 η και τον Κυριάκο Δαρίβα, φτιάχνουν το
  πρώτο τους συγκρότημα (τοπικό κουκακι
 ώτικο), παίζοντας στις εκδηλώσεις των 
 χολείων της περιοχής.\r\nΤο 1978 γνωρίζετ
 αι με τον Παύλο Σιδηρόπουλο και το ’’
 ουκακιώτικο συγκρότημα’’ μετατρέπε
 αι στο σχήμα ’’Οι Απροσάρμοστοι’’, 
 ε τη συμμετοχή του Αλέκου Αράπη και το
 υ Λουκά Γκέκα. ’’ Έτσι άρχισε ένα όμορ
 φο ταξίδι που κράτησε 12 χρόνια με τέσσ
 ρις δίσκους,  πάρα πολλά live, πολύ δρόμ
  και απίστευτες στιγμές. Το ταξίδι όμω
 ς διακόπηκε απότομα τον Δεκέμβρη του 19
 90 με την τραγική απώλεια του Παύλου’’
 , όπως λέει.\r\nΑπό τότε συνεχίζει να παί
 ζει με τους Απροσάρμοστους τα τραγούδ
 α του Παύλου, ενώ παράλληλα συμμετέχε
  σε πολλά μουσικά σχήματα, σε live και ηχ
 ογραφήσεις, ροκ και έντεχνα. Το 2007,αναζ
 ητώντας εκφραστική διέξοδο, καταπιάνε
 ται με τον πηλό και τη γλυπτική, κάνοντ
 ας τα έργα του να σαρκάζουν την πραγμα
 ικότητα με ανατρεπτικό χιούμορ.\r\nΕγκ
 ίνια έκθεσης: Τρίτη 27 Νοεμβρίου, ώρα 7 
 .μ. Διάρκεια έκθεσης: 27 Νοεμβρίου – 8 Δ
 κεμβρίου 2018 Καθημερινές και Σάββατα: 1
 3.00 – 22.00 Κυριακή: 18.00 – 22.00\r\n(Φωτογραφί
 ς: Zoiss Louvaris)\n\nFor more information visit https://blues.gr/ev
 ents/art-jam
DTSTART;TZID=Europe/Athens:20181205T000000
DTEND;TZID=Europe/Athens:20181208T235900
CATEGORIES:music, gallery
LOCATION:Black Duck Multiplarte
WEBSITE:
URL:
CONTACT:210 3234760
ORGANIZER:Black Duck Multiplarte
ATTACH;FMTTYPE="image/jpeg":http://storage.ning.com/topology/rest/1.0/
 file/get/2253059711?profile=original
ATTENDEE;ROLE=REQ-PARTICIPANT;PARTSTAT=ACCEPTED;RSVP=TRUE;CN="Music Ne
 twork by Michael Limnios":https://blues.gr/profile/MichalisLimnios
END:VEVENT
END:VCALENDAR
