BEGIN:VCALENDAR
PRODID:NingEventWidget-v1
VERSION:2.0
METHOD:PUBLISH
BEGIN:VTIMEZONE
TZID:Europe/Athens
X-LIC-LOCATION:Europe/Athens
BEGIN:DAYLIGHT
TZOFFSETFROM:+0200
TZOFFSETTO:+0300
TZNAME:EEST
DTSTART:19700329T030000
RRULE:FREQ=YEARLY;BYMONTH=3;BYDAY=-1SU
END:DAYLIGHT
BEGIN:STANDARD
TZOFFSETFROM:+0300
TZOFFSETTO:+0200
TZNAME:EET
DTSTART:19701025T040000
RRULE:FREQ=YEARLY;BYMONTH=10;BYDAY=-1SU
END:STANDARD
END:VTIMEZONE
BEGIN:VEVENT
UID:1982923:Event:235510
DTSTAMP:20260422T202253Z
SUMMARY:Blues for Peace @ Athens Greece - MODU
DESCRIPTION:Blues for Peace @ Athens Greece, May 27-30, 2016 at MODU 
 (ex-'Syrmos club'), Kolonou 76, Metaxourgeio Athens - Special Guest: B
 ob Hall (The Legend of British Blues)\nBLUES FOR PEACE SCHEDULE\nΠα
 ασκευή 27 Μαΐου / Friday, May 27 *Blues Cargo *Bob Hall & 
 Hilary Blythe*George Gakis & The Troublemakers\n*The Jumpin' Bones *Bl
 ues & Soul Shakers (Special Jam After Show)  Σάββατο 28 Μαΐ
 υ / Saturday, May 28 *Theo & Boogie Sinners + (Guest: Bob Hall) *Bob
  Hall & Hilary Blythe *Υiannis Monos & Blues Family *George & The Duk
 es (Special Jam After Show)  Κυριακή 29 Μαΐου / Sunday, Ma
 y 29 *Blues Revenge & Dimitris Polytimos *Bob Hall & Hilary Blythe *Ni
 ck Tsiamtsikas & Blues Report *Daddy’s Work Blues Band (Special Jam 
 After Show)  Δευτέρα 30 Μαΐου / Monday, May 30 *Simos Koka
 vesis & Blues Co. *Bob Hall & Hilary Blythe *Giotis Kyttaris *Shady Ro
 ots *Dimitris Rousopoulos (Special Jam After Show)\n\nBlues for Peace 
 is a global movement started by Michael Packer. Concerts, put on throu
 ghout the world over one weekend in May with the goal of raising the a
 wareness of peace. The Blues For Peace project is a world-wide event w
 hich will take place on May 27, 28, 29, 30 which is also Memorial Day 
 weekend in the United States. The Blues For Peace Project is sanctione
 d by the United Nations (United Nations High Commissioner for Refugees
 , UNHCR) so we will be contributing to them for Human Rights around t
 he world.\n\n\n\nFor more information visit https://blues.gr/events/at
 hens-greece-blues-for-peace
DTSTART;TZID=Europe/Athens:20160527T000000
DTEND;TZID=Europe/Athens:20160530T235900
CATEGORIES:blues, live, festival, unhcr
LOCATION:MODU (πρώην 'Συρμός', μουσική σκηνή)
WEBSITE:http://www.modu.gr/
URL:http://www.modu.gr/
CONTACT:
ORGANIZER:Athens Blues Hall of Fame - United Nations High Commissioner
  for Refugees, UNHCR
ATTACH;FMTTYPE="image/jpeg":http://storage.ning.com/topology/rest/1.0/
 file/get/2253045954?profile=original
ATTENDEE;ROLE=REQ-PARTICIPANT;PARTSTAT=ACCEPTED;RSVP=TRUE;CN="Music Ne
 twork by Michael Limnios":https://blues.gr/profile/MichalisLimnios
ATTENDEE;ROLE=REQ-PARTICIPANT;PARTSTAT=ACCEPTED;RSVP=TRUE;CN="Giannis 
 Pachidis":https://blues.gr/profile/ioannis
ATTENDEE;ROLE=REQ-PARTICIPANT;PARTSTAT=ACCEPTED;RSVP=TRUE;CN="Dimitris
  Ioannou":https://blues.gr/profile/DimitrisIoannou
ATTENDEE;ROLE=REQ-PARTICIPANT;PARTSTAT=ACCEPTED;RSVP=TRUE;CN="Giorgos 
 Chrisopoulos":https://blues.gr/profile/GiorgosXr
ATTENDEE;ROLE=REQ-PARTICIPANT;PARTSTAT=ACCEPTED;RSVP=TRUE;CN="Orestis 
 Tsikouris":https://blues.gr/profile/OrestisTsikouris
END:VEVENT
END:VCALENDAR
