BEGIN:VCALENDAR
PRODID:NingEventWidget-v1
VERSION:2.0
METHOD:PUBLISH
BEGIN:VTIMEZONE
TZID:Europe/Athens
X-LIC-LOCATION:Europe/Athens
BEGIN:DAYLIGHT
TZOFFSETFROM:+0200
TZOFFSETTO:+0300
TZNAME:EEST
DTSTART:19700329T030000
RRULE:FREQ=YEARLY;BYMONTH=3;BYDAY=-1SU
END:DAYLIGHT
BEGIN:STANDARD
TZOFFSETFROM:+0300
TZOFFSETTO:+0200
TZNAME:EET
DTSTART:19701025T040000
RRULE:FREQ=YEARLY;BYMONTH=10;BYDAY=-1SU
END:STANDARD
END:VTIMEZONE
BEGIN:VEVENT
UID:1982923:Event:101820
DTSTAMP:20260420T090712Z
SUMMARY:BACK DOOR BLUES BAND & THE BOOGIE SINNERS LIVE AT \"LAZY\"
DESCRIPTION:\"Διπλές δόσεις blues\" σας υπόσχον
 αι οι Back Door Blues band και οι Boogie Sinners την Τε
 τάρτη 27 Απριλίου στο Lazy!\nΕλάτε να μπλο
 ζάρουμε με κομμάτια και ρυθμούς που 
 λοι αγαπήσαμε και συνεχίζουμε να αγαπ
 άμε!\n \nBACK DOOR BAND \nGuitar & Vocals:          Mano
 lis Bogris\n Guitar:                         
 Akis Georgakopoulos\nHarmonica:                 Kosta
 s Tenezos\nBass:                           
 Giorgos Panagiotopoulos\nDrums:                   
     Dimitris Nikolidagas\n \nTHE BOOGIE SINNERS\nGuitar:    
                Thodoris Alexiou\nVocals:       
             Vassiliki Papaioannou\nHarmonica:      
       Kostas Tenezos\nBass:                  
     Dimitris Georgopoulos\nDrums:                
    Giannis \"Coach\" Antonopoulos\n \n \n\nFor more information v
 isit https://blues.gr/events/back-door-blues-band-the
DTSTART;TZID=Europe/Athens:20110427T000000
DTEND;TZID=Europe/Athens:20110427T235900
CATEGORIES:gig
LOCATION:LAZY
WEBSITE:http://www.lazy.gr/
URL:http://www.lazy.gr/
CONTACT:2106895535
ORGANIZER:Theodore Alexiou
ATTACH;FMTTYPE="image/jpeg":http://storage.ning.com/topology/rest/1.0/
 file/get/2252950012?profile=original
ATTENDEE;ROLE=REQ-PARTICIPANT;PARTSTAT=ACCEPTED;RSVP=TRUE;CN="The Boog
 ie Sinners":https://blues.gr/profile/TheBoogieSinners
ATTENDEE;ROLE=REQ-PARTICIPANT;PARTSTAT=ACCEPTED;RSVP=TRUE;CN="Giannis 
 Pachidis":https://blues.gr/profile/ioannis
ATTENDEE;ROLE=REQ-PARTICIPANT;PARTSTAT=ACCEPTED;RSVP=TRUE;CN="Theo and
  The Boogie Sinners":https://blues.gr/profile/AlexiouTheodoros
END:VEVENT
END:VCALENDAR
