BEGIN:VCALENDAR
PRODID:NingEventWidget-v1
VERSION:2.0
METHOD:PUBLISH
BEGIN:VTIMEZONE
TZID:Europe/Athens
X-LIC-LOCATION:Europe/Athens
BEGIN:DAYLIGHT
TZOFFSETFROM:+0200
TZOFFSETTO:+0300
TZNAME:EEST
DTSTART:19700329T030000
RRULE:FREQ=YEARLY;BYMONTH=3;BYDAY=-1SU
END:DAYLIGHT
BEGIN:STANDARD
TZOFFSETFROM:+0300
TZOFFSETTO:+0200
TZNAME:EET
DTSTART:19701025T040000
RRULE:FREQ=YEARLY;BYMONTH=10;BYDAY=-1SU
END:STANDARD
END:VTIMEZONE
BEGIN:VEVENT
UID:1982923:Event:126800
DTSTAMP:20260424T102244Z
SUMMARY:Ζωρζ Πιλαλί & Σούφρα Band
DESCRIPTION:Ζωρζ Πιλαλί (κατά κόσμον Γιώργο
  Πιλάλας) Ο Γιώργος Πιλάλας είναι παρώ
 ν στην αθηναϊκή underground σκηνή από τις αρ
 χές της δεκαετίας του '80. Στα τραγούδια
  του συνδυάζει με τον προσωπικό του τρ
 πο την σουρεαλιστική του γραφή στο στ
 χο με το μπλουζ και το ρεμπέτικο, αφού 
 έχει ενσωματώσει μοναδικά στο στιλ το
  τους μουσικούς δρόμους και τις τεχνι
 ές παιξίματος των παλιών ρεμπετών αλλ
 ά και των μουσικών του μπλουζ του αμερ
 κανικού Νότου. Εχει παίξει σε συναυλί
 ς, κλαμπ και φεστιβάλ στην Ελλάδα, τον 
 Καναδά, τις ΗΠΑ και τη Γαλλία. Εχει ηχο
 ραφήσει τρεις δίσκους ενώ έχει συμμετ
 άσχει και σε δίσκους άλλων καλλιτεχνώ
  της ελληνικής σκηνής. Στον πιο “πρόσ
 ατο” δίσκο του («Θεοκωμωδία», 1994) έχου
 ν συμμετάσχει, μεταξύ άλλων, ένα συγκρ
 τημα αλβανών μουσικών του δρόμου, έλλ
 νες beat ποιητές αλλά και οι σπουδαίοι bl
 uesmen Louisiana Red και Big Time Sarah. Τα τελευταία χ
 ρόνια συνεργάζεται επί σκηνής με τον β
 ετεράνο της ελληνικής ροκ σκηνής Δημή
 ρη Πουλικάκο, τον Γάλλο τσιγγάνο κιθα
 ίστα Philippe \"Doudou\" Guillerier και τον περίφημ
  αμερικανό κιθαρίστα και ερευνητή της
  world music Bob Brozman. Ο Γιώργος Πιλάλας, ο Γκρ
 κ Αμέρικαν της Ελλάδας ή διαφορετικά 
  κροταλίας της ασφάλτου, παρουσιάζει 
 τη σκηνή ιστορίες με… περιεχόμενο! Ο 
 ώρζ, ο καλλιτέχνης με το επιλήψιμο χιο
 ύμορ, διηγείται ιστορίες κοσμοπολίτικ
 ες, επαρχιώτικες, ροκ εντ ρολ, ιστορίες
  σκυλάδικες, της ξέρας και της άπνοιας!
  Ο Ζώρζ Πιλαλί, το άτομο “παρφέ”, είνα
  ο πρόδρομος και ο δρόμος της ντόπιας 
 ιτς εντ μπήτ λογοτεχνίας. Παράλληλα ε
 ναι ένας σημαντικός κιθαρίστας του μπ
 λουζ (μία από τις κορυφαίες φυσιογνωμί
 ες της σκηνής). Εμφανίζεται μόνο όταν ε
 κείνος θέλει, και θέλει, όταν έχει κάτι
  καινούργιο να πει. Το καλοκαίρι του 1989
  προσκεκλημένος από το Festival d ete du Quebec ε
 φανίστηκε σε 12 συναυλίες στο Quebec και τ
 ο Winnipeg Folk Festival, παίζοντας με τον BOB BROZMAN 
 και μουσικούς από την Ινδία, Οκινάουα, 
 Ιαπωνία, Αρμενία, Τουρκία, Γαλλία, Κούβ
 α, Μ. Βρετανία, Αμερική και Καναδά. Οι κ
 ινούργιες ιστορίες, τα ταξίδια και τα 
 μπλεξίματα σε ήχο μπλουζορεμπέτικο, η 
 νέο-κλασσική πλαστική θυμοσοφία του, ύ
 στερα από πολλές περιπέτειες κυκλοφόρ
 ησαν το 1994 με την “Θεοκωμωδία”. Η “Θε
 κωμωδία” είναι ό,τι πιο ολοκληρωμένο 
 έχει παρουσιάσει μέχρι σήμερα ο ανισό
 ροπος αυτός ισορροπιστής της λογικής 
 του παραλόγου. Το πιο γνωστό του κομμά
 ι στο ευρύ κοινό είναι τα «Μπατσόνια».
  Η ένδυση του συνοδεύετε από τις τιράν
 ες και τα φανταχτερά πουκάμισα. Διάση
 ες και ευφυείς είναι οι ατάκες και οι 
 ονόλογοι του ανάμεσα στα τραγούδια όπ
 ως : τα πανεπιστήμια δημιουργούν ειδικ
 ότητες και όχι προσωπικότητες! Ο Ζώρζ 
 ιλαλί γεννήθηκε στην Αθήνα 29/1/1958.Το 1983
  εκδίδει τον δίσκο «Επιθυμία» ,το 1986 έν
 α δίσκο live και το 1994 την «Θεοκωμωδία»\n\
 n\nFor more information visit https://blues.gr/events/band-1
DTSTART;TZID=Europe/Athens:20111202T000000
DTEND;TZID=Europe/Athens:20111202T235900
CATEGORIES:blues, comendy
LOCATION:Κύτταρο
WEBSITE:
URL:
CONTACT:
ORGANIZER:Κύτταρο
ATTACH;FMTTYPE="image/jpeg":http://storage.ning.com/topology/rest/1.0/
 file/get/2252962951?profile=original
ATTENDEE;ROLE=REQ-PARTICIPANT;PARTSTAT=ACCEPTED;RSVP=TRUE;CN="Giannis 
 Pachidis":https://blues.gr/profile/ioannis
ATTENDEE;ROLE=REQ-PARTICIPANT;PARTSTAT=ACCEPTED;RSVP=TRUE;CN="Music Ne
 twork by Michael Limnios":https://blues.gr/profile/MichalisLimnios
END:VEVENT
END:VCALENDAR
