BEGIN:VCALENDAR
PRODID:NingEventWidget-v1
VERSION:2.0
METHOD:PUBLISH
BEGIN:VTIMEZONE
TZID:Europe/Athens
X-LIC-LOCATION:Europe/Athens
BEGIN:DAYLIGHT
TZOFFSETFROM:+0200
TZOFFSETTO:+0300
TZNAME:EEST
DTSTART:19700329T030000
RRULE:FREQ=YEARLY;BYMONTH=3;BYDAY=-1SU
END:DAYLIGHT
BEGIN:STANDARD
TZOFFSETFROM:+0300
TZOFFSETTO:+0200
TZNAME:EET
DTSTART:19701025T040000
RRULE:FREQ=YEARLY;BYMONTH=10;BYDAY=-1SU
END:STANDARD
END:VTIMEZONE
BEGIN:VEVENT
UID:1982923:Event:110742
DTSTAMP:20260419T212321Z
SUMMARY:Ζώρζ Πιλαλί & Σούφρα Band
DESCRIPTION:Ο IANOS παρουσιάζει την συναυλία \"
 Θεήλατοι\" με τον Ζώρζ Πιλαλί και την Σ
 ύφρα Band.\n\"Έργον αναρχοφωτόμησθον υπό 
 τα ακαδημαϊκού Ζ.Πιλαλί μετά της λογιω
 τάτης ΣΟΥΦΡΑ BAND. Τα υποκείμενα αυτά πα
 ίγνωστα πλέον δια τας αλλοκότους διηγ
 ήσεων των αίτινες περιλαμβάνουσιν βίο
 υς αγιογραφιστών, νυκτοκλεπτών, αρκτα
 ωγών, γυμνοσοφιστών και ποιμένων καθώ
 ς και δοκίμια ιατρονομικής, επιφανών χ
 ειρωνακτών της Ιπποκρατείου Τέχνης. Τ
  φρικώδης σύνεργα των και η οδυνηρά μέ
 θοδος των οποίων μετέρχεται η τέχνη τω
 ν θέλουσιν φρικιάσειν τους παίδας, χει
 ραγωγήσειν τους ατακτούντας και σωφρο
 νίσει τους πεθνούντας.  Τάδε έφα Ζορζ 
 ιλαλί\"\nΗ βραδιά θα μεταδοθεί ζωντανά 
 από το ianosradio.gr\n\n\nFor more information visit https://blue
 s.gr/events/band
DTSTART;TZID=Europe/Athens:20111015T223000
DTEND;TZID=Europe/Athens:20111016T010000
CATEGORIES:μουσική, παράσταση, live
LOCATION:IANOS
WEBSITE:http://www.ianos.gr
URL:http://www.ianos.gr
CONTACT:2103217810
ORGANIZER:Ιανός
ATTACH;FMTTYPE="image/jpeg":http://storage.ning.com/topology/rest/1.0/
 file/get/2252954942?profile=original
ATTENDEE;ROLE=REQ-PARTICIPANT;PARTSTAT=ACCEPTED;RSVP=TRUE;CN="Music Ne
 twork by Michael Limnios":https://blues.gr/profile/MichalisLimnios
END:VEVENT
END:VCALENDAR
