BEGIN:VCALENDAR
PRODID:NingEventWidget-v1
VERSION:2.0
METHOD:PUBLISH
BEGIN:VTIMEZONE
TZID:Europe/Athens
X-LIC-LOCATION:Europe/Athens
BEGIN:DAYLIGHT
TZOFFSETFROM:+0200
TZOFFSETTO:+0300
TZNAME:EEST
DTSTART:19700329T030000
RRULE:FREQ=YEARLY;BYMONTH=3;BYDAY=-1SU
END:DAYLIGHT
BEGIN:STANDARD
TZOFFSETFROM:+0300
TZOFFSETTO:+0200
TZNAME:EET
DTSTART:19701025T040000
RRULE:FREQ=YEARLY;BYMONTH=10;BYDAY=-1SU
END:STANDARD
END:VTIMEZONE
BEGIN:VEVENT
UID:1982923:Event:114703
DTSTAMP:20260424T182609Z
SUMMARY:Banksters - Let's Swing & Rock n' Roll @ Αποθήκη Βόλ
 ου
DESCRIPTION:Το πρώτο Swing live της χρονιάς με το
 υς Banksters από την Θεσσαλονίκη, ένα νέο σ
 ήμα που ήδη εντυπωσιάζει με την μουσι
 ή τους και την σκηνική τους παρουσία...
 ασταμάτητοι, άκρως χορευτικοί! Την βρα
 δία πλαισιώνουν local Dj's....ντυθείτε κατά
 ληλα για χορό γιατί οι Banksters σίγουρα θ
  μας λαχανιάσουν!\n“Banksters” (λέξη σύνθε
 τη, που προκύπτει από την συγχώνευση τ
 ν λέξεων “banker” και “gangster”). Είναι έν
 ς όρος που τον βάλαμε στην ζωή μας τα τ
 ελευταία 2 χρόνια και από τότε μας ταλα
 ιπωρεί...Υπεύθυνοι τραπεζικού εγκλήμα
 ος… Συνωμότες των κυβερνήσεων…“The Ban
 ksters band” (μπάντα σύνθετη, που προκύπτει
  από την συγχώνευση swing  και  rock “n” roll
 ). Είναι μια μπάντα που βάλαμε στην ζωή 
 μας τον τελευταίο χρόνο και από τότε μ
 ς ταλαιπωρεί… Υπεύθυνοι πάσης φύσεως
  μουσικού εγκλήματος… Συνωμότες των π
 ιο κεφάτων parties!! Αυθεντική swing- rock n roll τ
 ρέλα, από μια νεοσύστατη μπάντα που δε
  κουράζεται ποτέ! Οι \"Banksters\" εντυπωσιά
 ζουν με την ενέργειά τους και κάνουν τ
 ν έκπληξη! Let' s swing! Let' s rock 'n' roll!!\n\n\nFor more
  information visit https://blues.gr/events/banksters-let-s-swing-rock-
 n-roll
DTSTART;TZID=Europe/Athens:20111008T223000
DTEND;TZID=Europe/Athens:20111009T020000
CATEGORIES:live, swing
LOCATION:Warehouse Πολυχώρος Αποθήκη
WEBSITE:http://www.myspace.com/thebanksters
URL:http://www.myspace.com/thebanksters
CONTACT:
ORGANIZER:
ATTACH;FMTTYPE="image/jpeg":http://storage.ning.com/topology/rest/1.0/
 file/get/2252957869?profile=original
ATTENDEE;ROLE=REQ-PARTICIPANT;PARTSTAT=ACCEPTED;RSVP=TRUE;CN="Music Ne
 twork by Michael Limnios":https://blues.gr/profile/MichalisLimnios
END:VEVENT
END:VCALENDAR
