BEGIN:VCALENDAR
PRODID:NingEventWidget-v1
VERSION:2.0
METHOD:PUBLISH
BEGIN:VTIMEZONE
TZID:Europe/Athens
X-LIC-LOCATION:Europe/Athens
BEGIN:DAYLIGHT
TZOFFSETFROM:+0200
TZOFFSETTO:+0300
TZNAME:EEST
DTSTART:19700329T030000
RRULE:FREQ=YEARLY;BYMONTH=3;BYDAY=-1SU
END:DAYLIGHT
BEGIN:STANDARD
TZOFFSETFROM:+0300
TZOFFSETTO:+0200
TZNAME:EET
DTSTART:19701025T040000
RRULE:FREQ=YEARLY;BYMONTH=10;BYDAY=-1SU
END:STANDARD
END:VTIMEZONE
BEGIN:VEVENT
UID:1982923:Event:103033
DTSTAMP:20260420T093514Z
SUMMARY:BASEMENT HIGH live Friday 13th
DESCRIPTION:Οι Basement High είναι ένα νέο ακουστι
 κό κουαρτέτο από τη Θεσσαλονίκη, με επ
 ρροές από blues/folk/rock μουσική.Tην Παρασκε
 υή 13 Μαίου στο Silver Dollar (Θεσσαλονίκη), πα
 ρουσιάζουν τραγούδια από το επερχόμεν
 ο ντεμπούτο άλμπουμ τους αλλά και διασ
 κευές από τα 60's μέχρι και σήμερα. 23.00 Εί
 σοδος ελεύθερηbasementhigh@yahoo.grwww.myspace.com/baseme
 nthighyoutube basement high-all this time\n\nFor more information visi
 t https://blues.gr/events/basement-high-live-friday-13th
DTSTART;TZID=Europe/Athens:20110509T180000
DTEND;TZID=Europe/Athens:20110513T120000
CATEGORIES:live
LOCATION:Silver Dollar
WEBSITE:http://www.silverdollar.gr
URL:http://www.silverdollar.gr
CONTACT:2310-283 613
ORGANIZER:Silver Dollar Bar
ATTACH;FMTTYPE="image/jpeg":http://storage.ning.com/topology/rest/1.0/
 file/get/2252950722?profile=original
ATTENDEE;ROLE=REQ-PARTICIPANT;PARTSTAT=ACCEPTED;RSVP=TRUE;CN="Johnny C
 how Ioannidis":https://blues.gr/profile/JohnnyChowIoannidis
ATTENDEE;ROLE=REQ-PARTICIPANT;PARTSTAT=ACCEPTED;RSVP=TRUE;CN="Tasos Tr
 iantafyllou":https://blues.gr/profile/TasosTriantafyllou
END:VEVENT
END:VCALENDAR
