BEGIN:VCALENDAR
PRODID:NingEventWidget-v1
VERSION:2.0
METHOD:PUBLISH
BEGIN:VTIMEZONE
TZID:Europe/Athens
X-LIC-LOCATION:Europe/Athens
BEGIN:DAYLIGHT
TZOFFSETFROM:+0200
TZOFFSETTO:+0300
TZNAME:EEST
DTSTART:19700329T030000
RRULE:FREQ=YEARLY;BYMONTH=3;BYDAY=-1SU
END:DAYLIGHT
BEGIN:STANDARD
TZOFFSETFROM:+0300
TZOFFSETTO:+0200
TZNAME:EET
DTSTART:19701025T040000
RRULE:FREQ=YEARLY;BYMONTH=10;BYDAY=-1SU
END:STANDARD
END:VTIMEZONE
BEGIN:VEVENT
UID:1982923:Event:269231
DTSTAMP:20260420T054219Z
SUMMARY:Beth Hart
DESCRIPTION:H Beth Hart, τραγουδίστρια/συνθέτρια
 , υποψήφια για Grammy, έχει αναγνωριστεί π
 αγκοσμίως ως μία από της μεγαλύτερες ε
 ρμηνεύτριες της εποχή μας, ειδικά στις
  ζωντανές της εμφανίσεις. Για 20 χρόνια 
 καθηλώνει το κοινό της με την απίστευτ
 ή δύναμή της, το εύρος της φωνής και τω
  καλλιτεχνικών της δυνατοτήτων και τη
 ν ψυχή της.\r\nΗ απίστευτη φωνή της Beth εί
 ναι που παρακίνησε τους κιθαρίστες-θρ
 λους Jeff Beck, Slash, Joe Bonamassa και Buddy Guy να παί
 ξουν μαζί της τόσο δισκογραφικά όσο κα
 ι ζωντανά. Συναυλία με τον Jeff Beck, συναυ
 ίες και δύο μαγικά άλμπουμ με τον Joe Bona
 massa (Don’t Explain και Seesaw), δύο δίσκους δυνα
 ίτες με τον Slash (στο κομμάτι της Beth, “Sis
 ter Heroine” και στο “Mother Maria” του Slash) και 
 το πολύ ιδιαίτερο blues αλμπουμ Rhythm and Blue
 s με τον Buddy Guy. Είναι απόλυτα φυσικό λοι
 πόν, που έχει προταθεί για δύο Βραβεία 
 Blues μουσικής.\r\nΟι θαυμαστές της γνωρίζ
 ουν τη δουλειά της πάρα πολύ καλά, μέσα
  από τις πολυάριθμες διακρίσεις που έχ
 ει κερδίσει:\r\n• Hit single, L.A. Song (Out Of This Town)
  - Νο6 στο Billboard Modern AC Chart και Νο7 στο Adult To
 p 40 Chart.\r\n• Album, Bang Bang Boom Boom, Νο3 στο U.S. Billb
 oard Top Blues Album Chart.\r\n• Δισκογραφικές συνε
 ργασίες με τον Joe Bonamassa, Seesaw και Don’t Explai
 n, στην κορυφή (Νο1 και Νο3) του Billboard Blues A
 lbums Chart, Νο8 και Νο22 στο Billboard Top Independent Albu
 ms Chart και το the Billboard 200.\r\n• Albums Leave The Light 
 On και 37 Days (ζωντανή ηχογράφηση), Νο1 hit sin
 gles στη Δανία (και από τα δύο).\r\nΞανά και
  ξανά, οι εμφανίσεις της Beth Hart, σε πόλει
 ς όπως Νέα Υόρκη, Λος Άντζελες, Λονδίνο
 , Παρίσι, Βερολίνο, Μιλάνο, Άμστερνταμ, 
 Κοπεγχάγη, Ελσίνκι, Σύδνεϋ και Μελβούρ
 νη, γίνονται sold out.  H καλύτερη ζωντανή τ
 ης ερμηνεία ως τώρα όμως ίσως είναι η σ
 υμμετοχή της, μαζί με τον Jeff Beck, στο «2012
  Kennedy Center Honors», όπου απέτισαν φόρο τιμή
  στον Buddy Guy, και ήταν η μία από τις δύο 
 υμμετοχές της βραδιάς, όπου το κοινό σ
 ηκώθηκε όρθιο για την επευφημήσει, με 
 ρώτους απ’ όλους τον Πρόεδρο της Αμερ
 ικής Barack Obama και τη σύζυγό του Michelle. Ερμ
 ηνεία που παρακολούθησαν εκατομμύρια 
 τηλεθεατών.\r\nΚάθε της εμφάνιση προκαλ
 εί το κοινό να σηκωθεί όρθιο για να τη 
 ειροκροτήσει με πάθος, γιατί κανείς ά
 λος δεν ξέρει τόσο καλά όσο εκείνη να 
 άνει τον χώρο στον οποίο εμφανίζεται 
 α σείεται συθέμελα! Όταν τραγουδάει, σ
 ταματούν τα ρολόγια, οι καρδιές χορεύο
 υν και το κορμί ανατριχιάζει.. Είναι τό
 σο επιβλητική!!\r\n\n\nFor more information visit https://
 blues.gr/events/beth-hart-1
DTSTART;TZID=Europe/Athens:20190627T000000
DTEND;TZID=Europe/Athens:20190627T235900
CATEGORIES:blues, rock
LOCATION:Θέατρο Βράχων - Μελίνα Μερκούρη
WEBSITE:http://menta3.com/el/
URL:http://menta3.com/el/
CONTACT:
ORGANIZER:Menta Art Events
ATTACH;FMTTYPE="image/jpeg":http://storage.ning.com/topology/rest/1.0/
 file/get/2253059628?profile=original
ATTENDEE;ROLE=REQ-PARTICIPANT;PARTSTAT=ACCEPTED;RSVP=TRUE;CN="Music Ne
 twork by Michael Limnios":https://blues.gr/profile/MichalisLimnios
END:VEVENT
END:VCALENDAR
