BEGIN:VCALENDAR
PRODID:NingEventWidget-v1
VERSION:2.0
METHOD:PUBLISH
BEGIN:VTIMEZONE
TZID:Europe/Athens
X-LIC-LOCATION:Europe/Athens
BEGIN:DAYLIGHT
TZOFFSETFROM:+0200
TZOFFSETTO:+0300
TZNAME:EEST
DTSTART:19700329T030000
RRULE:FREQ=YEARLY;BYMONTH=3;BYDAY=-1SU
END:DAYLIGHT
BEGIN:STANDARD
TZOFFSETFROM:+0300
TZOFFSETTO:+0200
TZNAME:EET
DTSTART:19701025T040000
RRULE:FREQ=YEARLY;BYMONTH=10;BYDAY=-1SU
END:STANDARD
END:VTIMEZONE
BEGIN:VEVENT
UID:1982923:Event:494424
DTSTAMP:20260420T213956Z
SUMMARY:Beth Hart
DESCRIPTION:𝗕𝗘𝗧𝗛 𝗛𝗔𝗥𝗧 | 𝗔𝗧𝗛𝗘𝗡
  1 Ιουλίου 2026  Δημοτικό Θέατρο Λυκαβητ
 τού    Η εκρηκτική Beth Hart θα συναντήσει τ
 ους θαυμαστές της στην Αθήνα, την Τετά
 τη 1 Ιουλίου σε ένα ειδικά σχεδιασμένο
  προτζεκτ για την Ελλάδα, στο Δημοτικό 
 Θέατρο Λυκαβηττού.\r\nH συναυλία που θα 
 οθεί στο κοίλο του θεάτρου σε ειδικά δ
 ιαμορφωμένο stage ως ένα ατμοσφαιρικό 𝗦
 𝗼𝗹𝗼 𝗦𝗵𝗼𝘄 με την ίδια στο πιάνο, 
 στο μπάσο και στις κιθάρες, θα είναι συ
 νδεδεμένη και με τον νέο της δίσκο «You S
 till Got Me». Στη σκηνή μαζί της και ο εδώ κα
 ι χρόνια κιθαρίστας και συνεργάτης τη
  John Nickols.\r\nΠρόλαβε τα 𝗲𝗮𝗿𝗹𝘆 𝗯𝗶
 𝗱𝘀 και κλείσε την θέση σου εδώ: https://
 www.ticketservices.gr/event/beth-hart-athens-2026/?lang=el\r\n45 ευ
 ώ (καθήμενοι, Ζώνη E) - early bird 42 ευρώ  50 ευ
 ρώ (καθήμενοι, Ζώνη D) - early bird 47 ευρώ  55 ε
 ρώ (καθήμενοι, Ζώνη C) - early bird 52 ευρώ  60 ε
 υρώ (καθήμενοι, Ζώνη B) - early bird 57 ευρώ  65 
 υρώ (καθήμενοι, Ζώνη A) - early bird 62 ευρώ\r\n\
 n\nFor more information visit https://blues.gr/events/beth-hart-4
DTSTART;TZID=Europe/Athens:20260701T000000
DTEND;TZID=Europe/Athens:20260701T235900
CATEGORIES:blues, rock
LOCATION:Δημοτικό Θέατρο Λυκαβηττού
WEBSITE:https://www.ticketservices.gr/event/beth-hart-athens-2026/?lan
 g=el
URL:https://www.ticketservices.gr/event/beth-hart-athens-2026/?lang=el
CONTACT:
ORGANIZER:Menta Art Events
ATTACH;FMTTYPE="image/jpeg":https://storage.ning.com/topology/rest/1.0
 /file/get/30984499079?profile=original
ATTENDEE;ROLE=REQ-PARTICIPANT;PARTSTAT=ACCEPTED;RSVP=TRUE;CN="Music Ne
 twork by Michael Limnios":https://blues.gr/profile/MichalisLimnios
END:VEVENT
END:VCALENDAR
