BEGIN:VCALENDAR
PRODID:NingEventWidget-v1
VERSION:2.0
METHOD:PUBLISH
BEGIN:VTIMEZONE
TZID:Europe/Athens
X-LIC-LOCATION:Europe/Athens
BEGIN:DAYLIGHT
TZOFFSETFROM:+0200
TZOFFSETTO:+0300
TZNAME:EEST
DTSTART:19700329T030000
RRULE:FREQ=YEARLY;BYMONTH=3;BYDAY=-1SU
END:DAYLIGHT
BEGIN:STANDARD
TZOFFSETFROM:+0300
TZOFFSETTO:+0200
TZNAME:EET
DTSTART:19701025T040000
RRULE:FREQ=YEARLY;BYMONTH=10;BYDAY=-1SU
END:STANDARD
END:VTIMEZONE
BEGIN:VEVENT
UID:1982923:Event:113395
DTSTAMP:20260420T042212Z
SUMMARY:Big Noise Attack! (with members of Down & Out)
DESCRIPTION:\"Blues\" is a club-bar Located in an old two-storey house
  in the centre of Athens-GREECE that first opened in November 1981 and
  is still going strong with steady customers of all ages.There, you ca
 n listen to all sorts of Blues.From Leadbelly and R.Johnson to North M
 ississippi All Stars-R.L.Burnside,Otis Taylor and Red Devils. \"Blues\
 " also cover Rockabilly,Psychobilly, Swing and Jump Blues and American
 a and Rock music related to Blues.\nFree Entrance\n\n\nFor more inform
 ation visit https://blues.gr/events/big-noise-attack-wiith-members-of-
 down-out
DTSTART;TZID=Europe/Athens:20111013T230000
DTEND;TZID=Europe/Athens:20111014T140000
CATEGORIES:live
LOCATION:Blues
WEBSITE:http://www.myspace.com/nikosblues
URL:http://www.myspace.com/nikosblues
CONTACT:2106433372
ORGANIZER:Blues club
ATTACH;FMTTYPE="image/jpeg":http://storage.ning.com/topology/rest/1.0/
 file/get/2252955118?profile=original
ATTENDEE;ROLE=REQ-PARTICIPANT;PARTSTAT=ACCEPTED;RSVP=TRUE;CN="Music Ne
 twork by Michael Limnios":https://blues.gr/profile/MichalisLimnios
END:VEVENT
END:VCALENDAR
