BEGIN:VCALENDAR
PRODID:NingEventWidget-v1
VERSION:2.0
METHOD:PUBLISH
BEGIN:VTIMEZONE
TZID:Europe/Athens
X-LIC-LOCATION:Europe/Athens
BEGIN:DAYLIGHT
TZOFFSETFROM:+0200
TZOFFSETTO:+0300
TZNAME:EEST
DTSTART:19700329T030000
RRULE:FREQ=YEARLY;BYMONTH=3;BYDAY=-1SU
END:DAYLIGHT
BEGIN:STANDARD
TZOFFSETFROM:+0300
TZOFFSETTO:+0200
TZNAME:EET
DTSTART:19701025T040000
RRULE:FREQ=YEARLY;BYMONTH=10;BYDAY=-1SU
END:STANDARD
END:VTIMEZONE
BEGIN:VEVENT
UID:1982923:Event:174309
DTSTAMP:20260421T215000Z
SUMMARY:Billy Cobham
DESCRIPTION:Θεωρείται ο απόλυτος ντράμερ τη
 ς fusion μουσικής. Επί 40 συναπτά έτη, ο  Bil
 ly Cobham παραμένει κορυφαίος μουσικός κα
 ι ένας ακούραστος ερευνητής. Η μουσική
  του διευρύνεται συνεχώς και η σχέση τ
 υ με το κοινό γίνεται ολοένα και βαθύτ
 ερη, όχι μόνο ως ντράμερ, αλλά και ως συ
 νθέτης και παραγωγός, ακόμα και ως εκπ
 ιδευτικός, παρέχοντας τις πολύτιμες γ
 νώσεις του στη νεότερη γενιά μουσικών.
 \n Γεννημένος στον Παναμά, μεγαλωμένος
  στη Νέα Υόρκη και κάτοικος Ελβετίας τ
  τελευταία 25 χρόνια, μεταφράζει την πο
 λυπολιτισμική του εμπειρία, σε ένα μεί
 γμα από jazz, rock και funk ήχους. Το πρώτο solo 
 album του, με τίτλο Spectrum στέκεται ακόμα 
 αι σήμερα ψηλά ως μια κορυφαία συνάντ
 ση της jazz της funk και της  rock μουσικής. 
 ατά την διάρκεια της σημαντικής και π
 λύχρονης καριέρας του, ο Billy Cobham έχει σ
 υνεργαστεί με κορυφαίους καλλιτέχνες 
 όπως ο Miles Davis (συμμετέχοντας σε μερικο
 ς από τους πιο σημαντικούς δίσκους το
 ), ο Horace Silver, ο George Duke, ο John Scofield, ο Tony Willia
 ms κ.ά. προσφέροντας πάντα μια ιδιαίτερ
  και αληθινή μουσική εμπειρία στο κοι
 ό του. Αυτό που περιμένει κάποιος από 
 έναν drummer– leader μιας μπάντας, είναι μια 
 ‘θορυβώδη’ παρουσία. Αντιθέτως ο Billy C
 obham, παρόλο που θεωρείται ένας από τους
  κορυφαίους ντράμερ του τελευταίου μι
 ού αιώνα, δεν αποζητά τα φώτα της δημο
 ιότητας. Επικεντρώνεται στο δυνατό line
  up και στο καλό υλικό, ενώ εξακολουθεί 
 α διατηρεί τη δύναμή του και τη διάθεσ
 ή του να καθοδηγεί τους παρτενέρ του κ
 ι να δραματοποιούν μαζί μουσικές ιστο
 ρίες. \n\nFor more information visit https://blues.gr/events/bill
 y-cobham
DTSTART;TZID=Europe/Athens:20130510T213000
DTEND;TZID=Europe/Athens:20130511T233000
CATEGORIES:jazz
LOCATION:GAZARTE
WEBSITE:http://www.billycobham.com/
URL:http://www.billycobham.com/
CONTACT:210 3460347, 210 3452277
ORGANIZER:GAZARTE
ATTACH;FMTTYPE="image/jpeg":http://storage.ning.com/topology/rest/1.0/
 file/get/2253003934?profile=original
ATTENDEE;ROLE=REQ-PARTICIPANT;PARTSTAT=ACCEPTED;RSVP=TRUE;CN="Music Ne
 twork by Michael Limnios":https://blues.gr/profile/MichalisLimnios
END:VEVENT
END:VCALENDAR
