BEGIN:VCALENDAR
PRODID:NingEventWidget-v1
VERSION:2.0
METHOD:PUBLISH
BEGIN:VTIMEZONE
TZID:Europe/Athens
X-LIC-LOCATION:Europe/Athens
BEGIN:DAYLIGHT
TZOFFSETFROM:+0200
TZOFFSETTO:+0300
TZNAME:EEST
DTSTART:19700329T030000
RRULE:FREQ=YEARLY;BYMONTH=3;BYDAY=-1SU
END:DAYLIGHT
BEGIN:STANDARD
TZOFFSETFROM:+0300
TZOFFSETTO:+0200
TZNAME:EET
DTSTART:19701025T040000
RRULE:FREQ=YEARLY;BYMONTH=10;BYDAY=-1SU
END:STANDARD
END:VTIMEZONE
BEGIN:VEVENT
UID:1982923:Event:242189
DTSTAMP:20260421T181134Z
SUMMARY:BILLY MERZIOTIS & AFTER HOURS
DESCRIPTION:Σάββατο 7/5\nBILLY MERZIOTIS & AFTER HOURS\nΕιρ
 νη Μωβιά: φωνή, Βασίλης Μερζιώτης: κιθ
 ρα-φωνή, Αλέξανδρος Σταύρακας: μπάσο, 
 ιώργος Λιάκος: πλήκτρα, Διονύσης Παξι
 ός: ντραμς.\n Νιώθοντας την ανάγκη να μ
 οιραστούμε τη μουσική που πραγματικά 
 γαπάμε, δημιουργήσαμε ένα μουσικό projec
 t για να διοχετεύσουμε τη δημιουργικότ
 ητα μας σε κάτι πολύ αντιπροσωπευτικό 
 για εμάς.. Ο Βασίλης & η Ειρήνη και οι υπ
 όλοιποι μουσικοί είναι στην ευχάριστη
  θέση να σας συστήσουν τους AFTER HOURS, ένα 
 σχήμα που αποδίδει φόρο τιμής σε αγαπη
 μένα πρόσωπα της Blues & Rock μουσικής.\nΕίσ
 δος 8 ευρώ με μπύρα ή κρασί.\nhttps://www.youtube
 .com/watch?v=jgqyrSSeG5k\n\nFor more information visit https://blues.g
 r/events/billy-merziotis-after-hours
DTSTART;TZID=Europe/Athens:20160507T230000
DTEND;TZID=Europe/Athens:20160508T023000
CATEGORIES:blues-rock
LOCATION:LAZY CLUB
WEBSITE:http://www.lazy.gr
URL:http://www.lazy.gr
CONTACT:210 6895535
ORGANIZER;CN="Spiros Dramitinos":https://blues.gr/profile/SpirosDramit
 inos
ATTACH;FMTTYPE="image/jpeg":http://storage.ning.com/topology/rest/1.0/
 file/get/2253046899?profile=original
ATTENDEE;ROLE=REQ-PARTICIPANT;PARTSTAT=ACCEPTED;RSVP=TRUE;CN="Spiros D
 ramitinos":https://blues.gr/profile/SpirosDramitinos
END:VEVENT
END:VCALENDAR
