BEGIN:VCALENDAR
PRODID:NingEventWidget-v1
VERSION:2.0
METHOD:PUBLISH
BEGIN:VTIMEZONE
TZID:Europe/Athens
X-LIC-LOCATION:Europe/Athens
BEGIN:DAYLIGHT
TZOFFSETFROM:+0200
TZOFFSETTO:+0300
TZNAME:EEST
DTSTART:19700329T030000
RRULE:FREQ=YEARLY;BYMONTH=3;BYDAY=-1SU
END:DAYLIGHT
BEGIN:STANDARD
TZOFFSETFROM:+0300
TZOFFSETTO:+0200
TZNAME:EET
DTSTART:19701025T040000
RRULE:FREQ=YEARLY;BYMONTH=10;BYDAY=-1SU
END:STANDARD
END:VTIMEZONE
BEGIN:VEVENT
UID:1982923:Event:114498
DTSTAMP:20260420T041754Z
SUMMARY:Black Coffee
DESCRIPTION: \nΟι 'BLACK COFFEE'  δημιουργήθηκαν α
 ό την ανάγκη τεσσάρων μουσικών να εξω
 ερικεύσουν την αγάπη τους για την jazz μ
 ουσική, με τρόπο απλό και δεκτικό από τ
 ο κοινό, με σκοπό να επικοινωνήσουν κα
  να νοιώσουν την χαρά και την δύναμη α
 τής της συνεύρεσης. \nΤο ρεπερτόριο το
 υς ανοίγει την πόρτα σε γειτονικές της
  Jazz μουσικές: Funk, Soul, R&B, Blues και έτσι τα π
 ράγματα πέρνουν το δρόμο του GROOVE!  Τα τ
 λευταία χρόνια το γκρουπ εμφανίζεται 
 σε διάφορους χώρους στην Αθηνά και την
  επαρχία και «πειραματίζεται» σε συνθ
 σεις των D.Ellington, G.Gerswin, D.Gillespie, A.C.Jobim, M.Dav
 is, J.Coltrane, H.Hancock, C.Corea, Roberta Flack κ.ά.\n\nBLACK COFF
 EE \nΝτέπη Σακελλαρίου: φωνή, Βαλεντίνος
  Ντούλιας: κιθάρα, Μάκης Μπουκάλις: μπά
 σο, Χρήστος Ασωνίτης: ντραμς.\n\nFor more infor
 mation visit https://blues.gr/events/black-coffee
DTSTART;TZID=Europe/Athens:20111018T223000
DTEND;TZID=Europe/Athens:20111019T010000
CATEGORIES:live
LOCATION:Lazy
WEBSITE:http://www.lazy.gr
URL:http://www.lazy.gr
CONTACT:2106895535
ORGANIZER:Lazy
ATTACH;FMTTYPE="image/jpeg":http://storage.ning.com/topology/rest/1.0/
 file/get/2252956582?profile=original
ATTENDEE;ROLE=REQ-PARTICIPANT;PARTSTAT=ACCEPTED;RSVP=TRUE;CN="Music Ne
 twork by Michael Limnios":https://blues.gr/profile/MichalisLimnios
END:VEVENT
END:VCALENDAR
