BEGIN:VCALENDAR
PRODID:NingEventWidget-v1
VERSION:2.0
METHOD:PUBLISH
BEGIN:VTIMEZONE
TZID:Europe/Athens
X-LIC-LOCATION:Europe/Athens
BEGIN:DAYLIGHT
TZOFFSETFROM:+0200
TZOFFSETTO:+0300
TZNAME:EEST
DTSTART:19700329T030000
RRULE:FREQ=YEARLY;BYMONTH=3;BYDAY=-1SU
END:DAYLIGHT
BEGIN:STANDARD
TZOFFSETFROM:+0300
TZOFFSETTO:+0200
TZNAME:EET
DTSTART:19701025T040000
RRULE:FREQ=YEARLY;BYMONTH=10;BYDAY=-1SU
END:STANDARD
END:VTIMEZONE
BEGIN:VEVENT
UID:1982923:Event:158692
DTSTAMP:20260420T012228Z
SUMMARY:Black Cotton Doll @ Blues (Athens)
DESCRIPTION:Ένα εκρηκτικό ντουέτο που θα ερ
 ηνεύσουν Blues και Jazz κομμάτια από τα 20's 
 μέχρι και τα 60's η Black Cotton με την μαύρη φ
 νή της και ο Γρηγόρης Ντάνης με τα μαγ
 ικά του δάκτυλα θα σας ταξιδεύσουν πίσ
 ω στις αξέχαστες εποχές της Νέας  Ορλε
 άνης. Eίσοδος ελεύθερη\n \n \n\n\nFor more inform
 ation visit https://blues.gr/events/black-cotton-doll
DTSTART;TZID=Europe/Athens:20121109T000000
DTEND;TZID=Europe/Athens:20121109T235900
CATEGORIES:blues
LOCATION:BLUES
WEBSITE:
URL:
CONTACT:2106437667
ORGANIZER:Blues
ATTACH;FMTTYPE="image/jpeg":http://storage.ning.com/topology/rest/1.0/
 file/get/2219688405?profile=original
ATTENDEE;ROLE=REQ-PARTICIPANT;PARTSTAT=ACCEPTED;RSVP=TRUE;CN="Music Ne
 twork by Michael Limnios":https://blues.gr/profile/MichalisLimnios
END:VEVENT
END:VCALENDAR
