BEGIN:VCALENDAR
PRODID:NingEventWidget-v1
VERSION:2.0
METHOD:PUBLISH
BEGIN:VTIMEZONE
TZID:Europe/Athens
X-LIC-LOCATION:Europe/Athens
BEGIN:DAYLIGHT
TZOFFSETFROM:+0200
TZOFFSETTO:+0300
TZNAME:EEST
DTSTART:19700329T030000
RRULE:FREQ=YEARLY;BYMONTH=3;BYDAY=-1SU
END:DAYLIGHT
BEGIN:STANDARD
TZOFFSETFROM:+0300
TZOFFSETTO:+0200
TZNAME:EET
DTSTART:19701025T040000
RRULE:FREQ=YEARLY;BYMONTH=10;BYDAY=-1SU
END:STANDARD
END:VTIMEZONE
BEGIN:VEVENT
UID:1982923:Event:102994
DTSTAMP:20260420T060526Z
SUMMARY:Black Jack feat. Nastazia
DESCRIPTION:Οι Black Jack με την Nastazia στο τραγούδ
 ι σας προ(σ)καλούν σε ένα μουσικό ταξίδ
 ι στη ξέφρενη δεκαετία του ’30 σε ρυθμο
 ύς swing, dixie, jive και όχι μόνο. Μαζί τους, χ
 ρευτές τού swing μας παρασύρουν να τους 
 κολουθήσουμε στην πίστα σε βήματα swing,
  charleston, rhythm 'n' blues και rock 'n' roll. Το vintage 20s-5
 0s vτύσιμο είναι πολύ επιθυμητό για να σ
 υμβάλλει σε μια βραδιά γεμάτη ατμόσφα
 ρα!\nNastazia Beikof (vocals), Yiannis Karagiannakis (trumpet), Mak
 is Anastasopoulos (sax), Marinos Chimonas (trombone), Aggelos Tsoureli
 s (piano), Periklis Trivolis (bass), Christos Koutsogiannis (drums).\n
 \nFor more information visit https://blues.gr/events/black-jack-feat-n
 astazia
DTSTART;TZID=Europe/Athens:20110513T223000
DTEND;TZID=Europe/Athens:20110514T020000
CATEGORIES:live
LOCATION:Bacaro
WEBSITE:http://www.bacaro.gr/
URL:http://www.bacaro.gr/
CONTACT:210-3211882
ORGANIZER:Bacaro
ATTACH;FMTTYPE="image/jpeg":http://storage.ning.com/topology/rest/1.0/
 file/get/2252950618?profile=original
ATTENDEE;ROLE=REQ-PARTICIPANT;PARTSTAT=ACCEPTED;RSVP=TRUE;CN="Music Ne
 twork by Michael Limnios":https://blues.gr/profile/MichalisLimnios
END:VEVENT
END:VCALENDAR
