BEGIN:VCALENDAR
PRODID:NingEventWidget-v1
VERSION:2.0
METHOD:PUBLISH
BEGIN:VTIMEZONE
TZID:Europe/Athens
X-LIC-LOCATION:Europe/Athens
BEGIN:DAYLIGHT
TZOFFSETFROM:+0200
TZOFFSETTO:+0300
TZNAME:EEST
DTSTART:19700329T030000
RRULE:FREQ=YEARLY;BYMONTH=3;BYDAY=-1SU
END:DAYLIGHT
BEGIN:STANDARD
TZOFFSETFROM:+0300
TZOFFSETTO:+0200
TZNAME:EET
DTSTART:19701025T040000
RRULE:FREQ=YEARLY;BYMONTH=10;BYDAY=-1SU
END:STANDARD
END:VTIMEZONE
BEGIN:VEVENT
UID:1982923:Event:144467
DTSTAMP:20260425T183137Z
SUMMARY:BLACK SNAKE MOAN LIVE @ KAPNOMAGAZO
DESCRIPTION:PARTY ΤΕΛΕΥΤΑΙΑΣ ΒΡΑΔΙΑΣ ΤΗΣ ΣΕΖΟ
  ΣΤΟ ΚΑΠΝΟΜΑΓΑΖΟ!!!\n\nFor more information visit https
 ://blues.gr/events/black-snake-moan-live-kapnomagazo
DTSTART;TZID=Europe/Athens:20120504T220000
DTEND;TZID=Europe/Athens:20120505T020000
CATEGORIES:live, blues, music
LOCATION:ΚΑΠΝΟΜΑΓΑΖΟ - ΚΑΒΑΛΑ
WEBSITE:
URL:
CONTACT:
ORGANIZER;CN="the Bluesberry Duet":https://blues.gr/profile/Antoniadis
 Kyriacosthemoan
ATTACH;FMTTYPE="image/jpeg":http://storage.ning.com/topology/rest/1.0/
 file/get/2252979647?profile=original
ATTENDEE;ROLE=REQ-PARTICIPANT;PARTSTAT=ACCEPTED;RSVP=TRUE;CN=TUBESCREA
 MERS:https://blues.gr/profile/TUBESCREAMERS
ATTENDEE;ROLE=REQ-PARTICIPANT;PARTSTAT=ACCEPTED;RSVP=TRUE;CN="the Blue
 sberry Duet":https://blues.gr/profile/AntoniadisKyriacosthemoan
END:VEVENT
END:VCALENDAR
